BEGIN:VCALENDAR
VERSION:2.0
PRODID:-//Emerald Primary School - ECPv6.15.18//NONSGML v1.0//EN
CALSCALE:GREGORIAN
METHOD:PUBLISH
X-ORIGINAL-URL:https://eps.vic.edu.au
X-WR-CALDESC:Events for Emerald Primary School
REFRESH-INTERVAL;VALUE=DURATION:PT1H
X-Robots-Tag:noindex
X-PUBLISHED-TTL:PT1H
BEGIN:VTIMEZONE
TZID:Australia/Melbourne
BEGIN:STANDARD
TZOFFSETFROM:+1100
TZOFFSETTO:+1000
TZNAME:AEST
DTSTART:20240406T160000
END:STANDARD
BEGIN:DAYLIGHT
TZOFFSETFROM:+1000
TZOFFSETTO:+1100
TZNAME:AEDT
DTSTART:20241005T160000
END:DAYLIGHT
BEGIN:STANDARD
TZOFFSETFROM:+1100
TZOFFSETTO:+1000
TZNAME:AEST
DTSTART:20250405T160000
END:STANDARD
BEGIN:DAYLIGHT
TZOFFSETFROM:+1000
TZOFFSETTO:+1100
TZNAME:AEDT
DTSTART:20251004T160000
END:DAYLIGHT
BEGIN:STANDARD
TZOFFSETFROM:+1100
TZOFFSETTO:+1000
TZNAME:AEST
DTSTART:20260404T160000
END:STANDARD
BEGIN:DAYLIGHT
TZOFFSETFROM:+1000
TZOFFSETTO:+1100
TZNAME:AEDT
DTSTART:20261003T160000
END:DAYLIGHT
END:VTIMEZONE
BEGIN:VEVENT
DTSTART;TZID=Australia/Melbourne:20250603T090000
DTEND;TZID=Australia/Melbourne:20250603T153000
DTSTAMP:20260424T034632
CREATED:20250314T012714Z
LAST-MODIFIED:20250314T012714Z
UID:10002126-1748941200-1748964600@eps.vic.edu.au
SUMMARY:Divisional Cross Country (Selected Students)
DESCRIPTION:
URL:https://eps.vic.edu.au/event/divisional-cross-country-2025/
CATEGORIES:Sports
END:VEVENT
BEGIN:VEVENT
DTSTART;TZID=Australia/Melbourne:20250604T140000
DTEND;TZID=Australia/Melbourne:20250604T150000
DTSTAMP:20260424T034632
CREATED:20250530T014547Z
LAST-MODIFIED:20250530T014547Z
UID:10002181-1749045600-1749049200@eps.vic.edu.au
SUMMARY:Junior House Sports
DESCRIPTION:
URL:https://eps.vic.edu.au/event/junior-house-sports/
CATEGORIES:Grade 1,Grade 2,Prep
END:VEVENT
BEGIN:VEVENT
DTSTART;VALUE=DATE:20250609
DTEND;VALUE=DATE:20250610
DTSTAMP:20260424T034632
CREATED:20250402T024712Z
LAST-MODIFIED:20250402T024740Z
UID:10002147-1749427200-1749513599@eps.vic.edu.au
SUMMARY:King’s Birthday - Public Holiday
DESCRIPTION:
URL:https://eps.vic.edu.au/event/kings-birthday-public-holiday-2025/
CATEGORIES:Public Holiday
END:VEVENT
BEGIN:VEVENT
DTSTART;TZID=Australia/Melbourne:20250611T090000
DTEND;TZID=Australia/Melbourne:20250611T153000
DTSTAMP:20260424T034632
CREATED:20250402T024905Z
LAST-MODIFIED:20250402T024926Z
UID:10002148-1749632400-1749655800@eps.vic.edu.au
SUMMARY:Grade 5 Market Day
DESCRIPTION:
URL:https://eps.vic.edu.au/event/grade-5-market-day-2025/
CATEGORIES:Event,Grade 1,Grade 2,Grade 3,Grade 4,Grade 5,Grade 6,Prep
END:VEVENT
BEGIN:VEVENT
DTSTART;TZID=Australia/Melbourne:20250612T090000
DTEND;TZID=Australia/Melbourne:20250612T153000
DTSTAMP:20260424T034632
CREATED:20250314T012919Z
LAST-MODIFIED:20250314T012919Z
UID:10002127-1749718800-1749742200@eps.vic.edu.au
SUMMARY:Regional Cross Country (Selected Students)
DESCRIPTION:
URL:https://eps.vic.edu.au/event/regional-cross-country-selected-students/
CATEGORIES:Sports
END:VEVENT
BEGIN:VEVENT
DTSTART;TZID=Australia/Melbourne:20250613T091500
DTEND;TZID=Australia/Melbourne:20250613T094500
DTSTAMP:20260424T034632
CREATED:20250402T010925Z
LAST-MODIFIED:20250427T235323Z
UID:10002142-1749806100-1749807900@eps.vic.edu.au
SUMMARY:Assembly
DESCRIPTION:
URL:https://eps.vic.edu.au/event/assembly-term-2-2025/2025-06-13/
CATEGORIES:Grade 1,Grade 2,Grade 3,Grade 4,Grade 5,Grade 6,Prep
END:VEVENT
BEGIN:VEVENT
DTSTART;VALUE=DATE:20250616
DTEND;VALUE=DATE:20250621
DTSTAMP:20260424T034632
CREATED:20250403T220527Z
LAST-MODIFIED:20250616T023104Z
UID:10002150-1750032000-1750463999@eps.vic.edu.au
SUMMARY:Swimming Program  Prep - Grade 2
DESCRIPTION:
URL:https://eps.vic.edu.au/event/swimming-program-prep-grade-3-2025/
CATEGORIES:Grade 1,Grade 2,Prep
END:VEVENT
BEGIN:VEVENT
DTSTART;TZID=Australia/Melbourne:20250619T090000
DTEND;TZID=Australia/Melbourne:20250619T153000
DTSTAMP:20260424T034632
CREATED:20250314T013059Z
LAST-MODIFIED:20250402T025056Z
UID:10002128-1750323600-1750347000@eps.vic.edu.au
SUMMARY:Lightning Premierships 2025 - Grade 6
DESCRIPTION:
URL:https://eps.vic.edu.au/event/lightning-premiership-grade-6-2025/
CATEGORIES:Grade 6,Sports
END:VEVENT
BEGIN:VEVENT
DTSTART;VALUE=DATE:20250623
DTEND;VALUE=DATE:20250628
DTSTAMP:20260424T034632
CREATED:20250403T221008Z
LAST-MODIFIED:20250616T023138Z
UID:10002151-1750636800-1751068799@eps.vic.edu.au
SUMMARY:Swimming Program Grade 3 - Grade 6
DESCRIPTION:
URL:https://eps.vic.edu.au/event/swimming-program-grade-4-grade-6-2025/
CATEGORIES:Grade 3,Grade 4,Grade 5,Grade 6
END:VEVENT
BEGIN:VEVENT
DTSTART;VALUE=DATE:20250627
DTEND;VALUE=DATE:20250628
DTSTAMP:20260424T034632
CREATED:20250611T045542Z
LAST-MODIFIED:20250611T045542Z
UID:10002182-1750982400-1751068799@eps.vic.edu.au
SUMMARY:"Dress like a Rock Star or Ninja" out of uniform day.
DESCRIPTION:
URL:https://eps.vic.edu.au/event/dress-like-a-rock-star-or-ninja-out-of-uniform-day/
END:VEVENT
BEGIN:VEVENT
DTSTART;TZID=Australia/Melbourne:20250627T091500
DTEND;TZID=Australia/Melbourne:20250627T100000
DTSTAMP:20260424T034632
CREATED:20250427T235230Z
LAST-MODIFIED:20250427T235230Z
UID:10002168-1751015700-1751018400@eps.vic.edu.au
SUMMARY:Values Awards Assembly 2025
DESCRIPTION:
URL:https://eps.vic.edu.au/event/values-awards-assembly-2025/
CATEGORIES:Grade 1,Grade 2,Grade 3,Grade 4,Grade 5,Grade 6,Prep
END:VEVENT
END:VCALENDAR