BEGIN:VCALENDAR
VERSION:2.0
PRODID:-//Emerald Primary School - ECPv6.15.18//NONSGML v1.0//EN
CALSCALE:GREGORIAN
METHOD:PUBLISH
X-WR-CALNAME:Emerald Primary School
X-ORIGINAL-URL:https://eps.vic.edu.au
X-WR-CALDESC:Events for Emerald Primary School
REFRESH-INTERVAL;VALUE=DURATION:PT1H
X-Robots-Tag:noindex
X-PUBLISHED-TTL:PT1H
BEGIN:VTIMEZONE
TZID:Australia/Melbourne
BEGIN:STANDARD
TZOFFSETFROM:+1100
TZOFFSETTO:+1000
TZNAME:AEST
DTSTART:20240406T160000
END:STANDARD
BEGIN:DAYLIGHT
TZOFFSETFROM:+1000
TZOFFSETTO:+1100
TZNAME:AEDT
DTSTART:20241005T160000
END:DAYLIGHT
BEGIN:STANDARD
TZOFFSETFROM:+1100
TZOFFSETTO:+1000
TZNAME:AEST
DTSTART:20250405T160000
END:STANDARD
BEGIN:DAYLIGHT
TZOFFSETFROM:+1000
TZOFFSETTO:+1100
TZNAME:AEDT
DTSTART:20251004T160000
END:DAYLIGHT
BEGIN:STANDARD
TZOFFSETFROM:+1100
TZOFFSETTO:+1000
TZNAME:AEST
DTSTART:20260404T160000
END:STANDARD
BEGIN:DAYLIGHT
TZOFFSETFROM:+1000
TZOFFSETTO:+1100
TZNAME:AEDT
DTSTART:20261003T160000
END:DAYLIGHT
END:VTIMEZONE
BEGIN:VEVENT
DTSTART;TZID=Australia/Melbourne:20250501T193000
DTEND;TZID=Australia/Melbourne:20250501T203000
DTSTAMP:20260424T034614
CREATED:20250427T222644Z
LAST-MODIFIED:20250427T222644Z
UID:10002166-1746127800-1746131400@eps.vic.edu.au
SUMMARY:School Council AGM
DESCRIPTION:Dear EPS Families \nThe EPS Council AGM will be held next Thursday 1st May at Emerald Primary School. The Annual Report for 2024 will be presented at this meeting. \nIt will be held at 7.30pm in the Staff Room. \nAll are welcome to attend – please email myself at emerald.ps@education.vic.gov.au if you would like to come to the meeting. \nThank you \nEmma Clark \nPrincipal
URL:https://eps.vic.edu.au/event/school-council-agm-3/
END:VEVENT
BEGIN:VEVENT
DTSTART;TZID=Australia/Melbourne:20250502T091500
DTEND;TZID=Australia/Melbourne:20250502T094500
DTSTAMP:20260424T034614
CREATED:20250402T010925Z
LAST-MODIFIED:20250427T235323Z
UID:10002139-1746177300-1746179100@eps.vic.edu.au
SUMMARY:Assembly
DESCRIPTION:
URL:https://eps.vic.edu.au/event/assembly-term-2-2025/2025-05-02/
CATEGORIES:Grade 1,Grade 2,Grade 3,Grade 4,Grade 5,Grade 6,Prep
END:VEVENT
BEGIN:VEVENT
DTSTART;VALUE=DATE:20250503
DTEND;VALUE=DATE:20250504
DTSTAMP:20260424T034614
CREATED:20250428T001047Z
LAST-MODIFIED:20250428T001111Z
UID:10002169-1746230400-1746316799@eps.vic.edu.au
SUMMARY:Human Powered Vehicle Event (Selected Grade 6 Students)
DESCRIPTION:Casey Fields
URL:https://eps.vic.edu.au/event/human-powered-vehicle-event-2/
CATEGORIES:Event,Grade 6,Sports
END:VEVENT
BEGIN:VEVENT
DTSTART;VALUE=DATE:20250507
DTEND;VALUE=DATE:20250508
DTSTAMP:20260424T034614
CREATED:20250402T011329Z
LAST-MODIFIED:20260331T004257Z
UID:10002145-1746576000-1746662399@eps.vic.edu.au
SUMMARY:Open Day "Schools in Action" tours
DESCRIPTION:Any families considering enrolling their children at Emerald Primary School for Prep 2026 are invited to visit our school on our Open Day\, to be held on Wednesday 7th May. \nWe will be running school tours for our visitors to see EPS “in action”. We look forward to meeting you! Tours will run at: 9.30am\, 11.15am\, and 12.00pm.
URL:https://eps.vic.edu.au/event/open-day-schools-in-action-tours-2025/
END:VEVENT
BEGIN:VEVENT
DTSTART;TZID=Australia/Melbourne:20250509T140000
DTEND;TZID=Australia/Melbourne:20250509T153000
DTSTAMP:20260424T034614
CREATED:20250402T024122Z
LAST-MODIFIED:20250427T222323Z
UID:10002146-1746799200-1746804600@eps.vic.edu.au
SUMMARY:Mothers Day Celebration
DESCRIPTION:
URL:https://eps.vic.edu.au/event/mothers-day-celebration-3/
END:VEVENT
BEGIN:VEVENT
DTSTART;TZID=Australia/Melbourne:20250512T110000
DTEND;TZID=Australia/Melbourne:20250512T150000
DTSTAMP:20260424T034614
CREATED:20250427T232308Z
LAST-MODIFIED:20250507T232234Z
UID:10002167-1747047600-1747062000@eps.vic.edu.au
SUMMARY:EDEC Cross Country (Selected Students)
DESCRIPTION:
URL:https://eps.vic.edu.au/event/edec-cross-country-2025/
CATEGORIES:Grade 3,Grade 4,Grade 5,Grade 6,Sports
END:VEVENT
BEGIN:VEVENT
DTSTART;TZID=Australia/Melbourne:20250516T090000
DTEND;TZID=Australia/Melbourne:20250516T090000
DTSTAMP:20260424T034614
CREATED:20250428T012913Z
LAST-MODIFIED:20250428T013102Z
UID:10002171-1747386000-1747386000@eps.vic.edu.au
SUMMARY:Walk Safely to School Day 2025
DESCRIPTION:Please see Mr Stella if you would like “Walk to School” tattoo to wear on the day!
URL:https://eps.vic.edu.au/event/walk-safely-to-school-day-2025/
CATEGORIES:Grade 1,Grade 2,Grade 3,Grade 4,Grade 5,Grade 6,Prep
END:VEVENT
BEGIN:VEVENT
DTSTART;TZID=Australia/Melbourne:20250516T091500
DTEND;TZID=Australia/Melbourne:20250516T094500
DTSTAMP:20260424T034614
CREATED:20250402T010925Z
LAST-MODIFIED:20250427T235323Z
UID:10002140-1747386900-1747388700@eps.vic.edu.au
SUMMARY:Assembly
DESCRIPTION:
URL:https://eps.vic.edu.au/event/assembly-term-2-2025/2025-05-16/
CATEGORIES:Grade 1,Grade 2,Grade 3,Grade 4,Grade 5,Grade 6,Prep
END:VEVENT
BEGIN:VEVENT
DTSTART;VALUE=DATE:20250517
DTEND;VALUE=DATE:20250519
DTSTAMP:20260424T034614
CREATED:20250403T215248Z
LAST-MODIFIED:20250428T001650Z
UID:10002149-1747440000-1747612799@eps.vic.edu.au
SUMMARY:HUF
DESCRIPTION:
URL:https://eps.vic.edu.au/event/huf/
END:VEVENT
BEGIN:VEVENT
DTSTART;VALUE=DATE:20250519
DTEND;VALUE=DATE:20250524
DTSTAMP:20260424T034614
CREATED:20250314T012343Z
LAST-MODIFIED:20250314T012343Z
UID:10002124-1747612800-1748044799@eps.vic.edu.au
SUMMARY:Grade 6 Camp Woorabinda
DESCRIPTION:
URL:https://eps.vic.edu.au/event/grade-6-camp-woorabinda-2025/
CATEGORIES:Grade 6
END:VEVENT
BEGIN:VEVENT
DTSTART;TZID=Australia/Melbourne:20250521T120000
DTEND;TZID=Australia/Melbourne:20250521T123000
DTSTAMP:20260424T034614
CREATED:20250428T001954Z
LAST-MODIFIED:20250428T002038Z
UID:10002170-1747828800-1747830600@eps.vic.edu.au
SUMMARY:National Simultaneous Storytime 2025
DESCRIPTION:
URL:https://eps.vic.edu.au/event/national-simultaneous-storytime-2025/
CATEGORIES:Event,Grade 1,Grade 2,Grade 3,Grade 4,Grade 5,Grade 6,Prep
END:VEVENT
BEGIN:VEVENT
DTSTART;TZID=Australia/Melbourne:20250522T193000
DTEND;TZID=Australia/Melbourne:20250522T200000
DTSTAMP:20260424T034614
CREATED:20250317T020509Z
LAST-MODIFIED:20250618T025538Z
UID:10002173-1747942200-1747944000@eps.vic.edu.au
SUMMARY:School Council Meeting
DESCRIPTION:7:30pm General Meeting
URL:https://eps.vic.edu.au/event/school-council-meeting-20-3/2025-05-22/
CATEGORIES:School Council
END:VEVENT
BEGIN:VEVENT
DTSTART;VALUE=DATE:20250526
DTEND;VALUE=DATE:20250527
DTSTAMP:20260424T034614
CREATED:20250314T012446Z
LAST-MODIFIED:20250314T012446Z
UID:10002125-1748217600-1748303999@eps.vic.edu.au
SUMMARY:National Sorry Day
DESCRIPTION:
URL:https://eps.vic.edu.au/event/national-sorry-day/
END:VEVENT
BEGIN:VEVENT
DTSTART;TZID=Australia/Melbourne:20250530T091500
DTEND;TZID=Australia/Melbourne:20250530T094500
DTSTAMP:20260424T034614
CREATED:20250402T010925Z
LAST-MODIFIED:20250427T235323Z
UID:10002141-1748596500-1748598300@eps.vic.edu.au
SUMMARY:Assembly
DESCRIPTION:
URL:https://eps.vic.edu.au/event/assembly-term-2-2025/2025-05-30/
CATEGORIES:Grade 1,Grade 2,Grade 3,Grade 4,Grade 5,Grade 6,Prep
END:VEVENT
END:VCALENDAR