BEGIN:VCALENDAR
VERSION:2.0
PRODID:-//Emerald Primary School - ECPv6.15.18//NONSGML v1.0//EN
CALSCALE:GREGORIAN
METHOD:PUBLISH
X-ORIGINAL-URL:https://eps.vic.edu.au
X-WR-CALDESC:Events for Emerald Primary School
REFRESH-INTERVAL;VALUE=DURATION:PT1H
X-Robots-Tag:noindex
X-PUBLISHED-TTL:PT1H
BEGIN:VTIMEZONE
TZID:Australia/Melbourne
BEGIN:STANDARD
TZOFFSETFROM:+1100
TZOFFSETTO:+1000
TZNAME:AEST
DTSTART:20240406T160000
END:STANDARD
BEGIN:DAYLIGHT
TZOFFSETFROM:+1000
TZOFFSETTO:+1100
TZNAME:AEDT
DTSTART:20241005T160000
END:DAYLIGHT
BEGIN:STANDARD
TZOFFSETFROM:+1100
TZOFFSETTO:+1000
TZNAME:AEST
DTSTART:20250405T160000
END:STANDARD
BEGIN:DAYLIGHT
TZOFFSETFROM:+1000
TZOFFSETTO:+1100
TZNAME:AEDT
DTSTART:20251004T160000
END:DAYLIGHT
BEGIN:STANDARD
TZOFFSETFROM:+1100
TZOFFSETTO:+1000
TZNAME:AEST
DTSTART:20260404T160000
END:STANDARD
BEGIN:DAYLIGHT
TZOFFSETFROM:+1000
TZOFFSETTO:+1100
TZNAME:AEDT
DTSTART:20261003T160000
END:DAYLIGHT
END:VTIMEZONE
BEGIN:VEVENT
DTSTART;VALUE=DATE:20250402
DTEND;VALUE=DATE:20250403
DTSTAMP:20260424T034641
CREATED:20250206T040342Z
LAST-MODIFIED:20250303T005529Z
UID:10002108-1743552000-1743638399@eps.vic.edu.au
SUMMARY:School Photos
DESCRIPTION:
URL:https://eps.vic.edu.au/event/school-photos-2025/
CATEGORIES:Grade 1,Grade 2,Grade 3,Grade 4,Grade 5,Grade 6,Prep,School Photos
END:VEVENT
BEGIN:VEVENT
DTSTART;VALUE=DATE:20250402
DTEND;VALUE=DATE:20250403
DTSTAMP:20260424T034641
CREATED:20250314T010458Z
LAST-MODIFIED:20250314T010458Z
UID:10002117-1743552000-1743638399@eps.vic.edu.au
SUMMARY:World Autism Awareness Day
DESCRIPTION:
URL:https://eps.vic.edu.au/event/world-autism-awareness-day/
CATEGORIES:Grade 1,Grade 2,Grade 3,Grade 4,Grade 5,Grade 6,Prep
END:VEVENT
BEGIN:VEVENT
DTSTART;TZID=Australia/Melbourne:20250403T140000
DTEND;TZID=Australia/Melbourne:20250403T153000
DTSTAMP:20260424T034641
CREATED:20250130T080219Z
LAST-MODIFIED:20250421T233813Z
UID:10002102-1743688800-1743694200@eps.vic.edu.au
SUMMARY:Colour Fun Run 2025
DESCRIPTION:
URL:https://eps.vic.edu.au/event/colour-fun-run-2025/
CATEGORIES:Grade 1,Grade 2,Grade 3,Grade 4,Grade 5,Grade 6,Prep
END:VEVENT
BEGIN:VEVENT
DTSTART;TZID=Australia/Melbourne:20250404T091500
DTEND;TZID=Australia/Melbourne:20250404T100000
DTSTAMP:20260424T034641
CREATED:20250206T040110Z
LAST-MODIFIED:20250319T032855Z
UID:10002107-1743758100-1743760800@eps.vic.edu.au
SUMMARY:Growth Mindset Awards Assembly 2025
DESCRIPTION:
URL:https://eps.vic.edu.au/event/values-awards-assembly-1-2025/
CATEGORIES:Grade 1,Grade 2,Grade 3,Grade 4,Grade 5,Grade 6,Prep
END:VEVENT
BEGIN:VEVENT
DTSTART;TZID=Australia/Melbourne:20250404T143000
DTEND;TZID=Australia/Melbourne:20250404T143000
DTSTAMP:20260424T034641
CREATED:20250116T233523Z
LAST-MODIFIED:20250319T032934Z
UID:10002090-1743777000-1743777000@eps.vic.edu.au
SUMMARY:Term 1 Concludes - 2.30pm Finish
DESCRIPTION:
URL:https://eps.vic.edu.au/event/term-1-concludes-2025/
CATEGORIES:Term Dates
END:VEVENT
BEGIN:VEVENT
DTSTART;TZID=Australia/Melbourne:20250405T100000
DTEND;TZID=Australia/Melbourne:20250405T130000
DTSTAMP:20260424T034641
CREATED:20250312T040019Z
LAST-MODIFIED:20250402T025839Z
UID:10002114-1743847200-1743858000@eps.vic.edu.au
SUMMARY:Working Bee - Saturday 5th April - First one for 2025!
DESCRIPTION:Working Bee – Rescheuled to Saturday 5th April \nFor a variety of reasons\, we are rescheduling our first Working Bee for the year to Saturday 5th April  – apologies for any inconvenience caused. \nWe are planning on having a BBQ on the day and an Easter Egg Hunt! It willl be held from 10am to 1pm\, and we will be doing mulching\, weeding and maybe even some construction! \nHope to see you then!
URL:https://eps.vic.edu.au/event/working-bee-31-8-24-2/
CATEGORIES:Grade 1,Grade 2,Grade 3,Grade 4,Grade 5,Grade 6,Prep,Working Bee
END:VEVENT
BEGIN:VEVENT
DTSTART;VALUE=DATE:20250418
DTEND;VALUE=DATE:20250419
DTSTAMP:20260424T034641
CREATED:20250314T011153Z
LAST-MODIFIED:20250314T011153Z
UID:10002120-1744934400-1745020799@eps.vic.edu.au
SUMMARY:Good Friday
DESCRIPTION:
URL:https://eps.vic.edu.au/event/good-friday-2/
CATEGORIES:Public Holiday
END:VEVENT
BEGIN:VEVENT
DTSTART;VALUE=DATE:20250420
DTEND;VALUE=DATE:20250421
DTSTAMP:20260424T034641
CREATED:20250314T011404Z
LAST-MODIFIED:20250314T011404Z
UID:10002121-1745107200-1745193599@eps.vic.edu.au
SUMMARY:Easter Sunday
DESCRIPTION:
URL:https://eps.vic.edu.au/event/easter-sunday-2025/
CATEGORIES:Public Holiday
END:VEVENT
BEGIN:VEVENT
DTSTART;VALUE=DATE:20250421
DTEND;VALUE=DATE:20250422
DTSTAMP:20260424T034641
CREATED:20250314T011036Z
LAST-MODIFIED:20250314T011243Z
UID:10002119-1745193600-1745279999@eps.vic.edu.au
SUMMARY:Easter Monday
DESCRIPTION:
URL:https://eps.vic.edu.au/event/easter-monday-2025/
CATEGORIES:Public Holiday
END:VEVENT
BEGIN:VEVENT
DTSTART;TZID=Australia/Melbourne:20250422T090000
DTEND;TZID=Australia/Melbourne:20250422T153000
DTSTAMP:20260424T034641
CREATED:20250314T011647Z
LAST-MODIFIED:20250314T011715Z
UID:10002122-1745312400-1745335800@eps.vic.edu.au
SUMMARY:Term 2 Commences
DESCRIPTION:
URL:https://eps.vic.edu.au/event/term-2-commences-2025/
CATEGORIES:Term Dates
END:VEVENT
BEGIN:VEVENT
DTSTART;VALUE=DATE:20250425
DTEND;VALUE=DATE:20250426
DTSTAMP:20260424T034641
CREATED:20250314T010720Z
LAST-MODIFIED:20250314T011511Z
UID:10002118-1745539200-1745625599@eps.vic.edu.au
SUMMARY:ANZAC Day
DESCRIPTION:
URL:https://eps.vic.edu.au/event/anzac-day-public-holiday-2025/
CATEGORIES:Public Holiday
END:VEVENT
BEGIN:VEVENT
DTSTART;VALUE=DATE:20250430
DTEND;VALUE=DATE:20250501
DTSTAMP:20260424T034641
CREATED:20250423T053629Z
LAST-MODIFIED:20250423T053629Z
UID:10002165-1745971200-1746057599@eps.vic.edu.au
SUMMARY:"Wear Blue" day for Make A Wish Australia
DESCRIPTION:EPS is participating in “World Wish Month” during April to support Make-A-Wish Australia. We are planning to hold our “Wear Blue” day next Wednesday 30th April\, with a gold coin donation going towards this charity which helps to bring wishes to life for critically ill children. \nPlease see some further information attached. Thank you to Lisa Dangerfield and family for their support in running this day.
URL:https://eps.vic.edu.au/event/wear-blue-day-for-make-a-wish-australia/
CATEGORIES:Event
END:VEVENT
BEGIN:VEVENT
DTSTART;TZID=Australia/Melbourne:20250430T111000
DTEND;TZID=Australia/Melbourne:20250430T125000
DTSTAMP:20260424T034641
CREATED:20250423T051332Z
LAST-MODIFIED:20250423T051332Z
UID:10002164-1746011400-1746017400@eps.vic.edu.au
SUMMARY:Cross Country - Grades 3 - 6
DESCRIPTION:
URL:https://eps.vic.edu.au/event/cross-country-grades-3-6/
END:VEVENT
END:VCALENDAR