BEGIN:VCALENDAR
VERSION:2.0
PRODID:-//Emerald Primary School - ECPv6.15.18//NONSGML v1.0//EN
CALSCALE:GREGORIAN
METHOD:PUBLISH
X-WR-CALNAME:Emerald Primary School
X-ORIGINAL-URL:https://eps.vic.edu.au
X-WR-CALDESC:Events for Emerald Primary School
REFRESH-INTERVAL;VALUE=DURATION:PT1H
X-Robots-Tag:noindex
X-PUBLISHED-TTL:PT1H
BEGIN:VTIMEZONE
TZID:Australia/Melbourne
BEGIN:STANDARD
TZOFFSETFROM:+1100
TZOFFSETTO:+1000
TZNAME:AEST
DTSTART:20240406T160000
END:STANDARD
BEGIN:DAYLIGHT
TZOFFSETFROM:+1000
TZOFFSETTO:+1100
TZNAME:AEDT
DTSTART:20241005T160000
END:DAYLIGHT
BEGIN:STANDARD
TZOFFSETFROM:+1100
TZOFFSETTO:+1000
TZNAME:AEST
DTSTART:20250405T160000
END:STANDARD
BEGIN:DAYLIGHT
TZOFFSETFROM:+1000
TZOFFSETTO:+1100
TZNAME:AEDT
DTSTART:20251004T160000
END:DAYLIGHT
BEGIN:STANDARD
TZOFFSETFROM:+1100
TZOFFSETTO:+1000
TZNAME:AEST
DTSTART:20260404T160000
END:STANDARD
BEGIN:DAYLIGHT
TZOFFSETFROM:+1000
TZOFFSETTO:+1100
TZNAME:AEDT
DTSTART:20261003T160000
END:DAYLIGHT
END:VTIMEZONE
BEGIN:VEVENT
DTSTART;TZID=Australia/Melbourne:20250205T180000
DTEND;TZID=Australia/Melbourne:20250205T190000
DTSTAMP:20260424T134159
CREATED:20250130T080725Z
LAST-MODIFIED:20250130T080743Z
UID:10002103-1738778400-1738782000@eps.vic.edu.au
SUMMARY:2025 Grade 6 Information Night
DESCRIPTION:Come along and meet the Year 6 Teaching Team and hear all about the exciting activities and events that make up Year 6 at E.P.S!
URL:https://eps.vic.edu.au/event/2025-grade-6-information-night/
CATEGORIES:Grade 6
END:VEVENT
BEGIN:VEVENT
DTSTART;TZID=Australia/Melbourne:20250207T091500
DTEND;TZID=Australia/Melbourne:20250207T094500
DTSTAMP:20260424T134159
CREATED:20250206T035053Z
LAST-MODIFIED:20250206T035053Z
UID:10002104-1738919700-1738921500@eps.vic.edu.au
SUMMARY:Assembly
DESCRIPTION:
URL:https://eps.vic.edu.au/event/assembly-term-1-1-2025/
CATEGORIES:Grade 1,Grade 2,Grade 3,Grade 4,Grade 5,Grade 6,Prep
END:VEVENT
BEGIN:VEVENT
DTSTART;TZID=Australia/Melbourne:20250213T130000
DTEND;TZID=Australia/Melbourne:20250213T180000
DTSTAMP:20260424T134159
CREATED:20250128T092502Z
LAST-MODIFIED:20250128T094226Z
UID:10002094-1739451600-1739469600@eps.vic.edu.au
SUMMARY:Parent Teacher Connect Meeting
DESCRIPTION:Parent-Teacher Connect Meetings from 1pm to 6pm; classes finish at 12pm on this day. Supervsion at school is available on this afternoon.
URL:https://eps.vic.edu.au/event/parent-teacher-connect-meeting-term-1-2025/
END:VEVENT
BEGIN:VEVENT
DTSTART;TZID=Australia/Melbourne:20250220T190000
DTEND;TZID=Australia/Melbourne:20250220T200000
DTSTAMP:20260424T134159
CREATED:20250212T014032Z
LAST-MODIFIED:20250212T040115Z
UID:10002109-1740078000-1740081600@eps.vic.edu.au
SUMMARY:School Council Meeting
DESCRIPTION:
URL:https://eps.vic.edu.au/event/school-council-meeting-20-2/
CATEGORIES:School Council
END:VEVENT
BEGIN:VEVENT
DTSTART;VALUE=DATE:20250221
DTEND;VALUE=DATE:20250222
DTSTAMP:20260424T134159
CREATED:20250128T094518Z
LAST-MODIFIED:20250128T095022Z
UID:10002095-1740096000-1740182399@eps.vic.edu.au
SUMMARY:Curriculum Day - No students at school
DESCRIPTION:For those families using the TheirCare childcare service\, they are preparing to have students on the 21st February\, 3rd July and 21st July dates.
URL:https://eps.vic.edu.au/event/curriculum-day-no-students-at-school-21-2/
CATEGORIES:Curriculum Day
END:VEVENT
BEGIN:VEVENT
DTSTART;TZID=Australia/Melbourne:20250227T090000
DTEND;TZID=Australia/Melbourne:20250227T150000
DTSTAMP:20260424T134159
CREATED:20250128T224151Z
LAST-MODIFIED:20250303T005734Z
UID:10002099-1740646800-1740668400@eps.vic.edu.au
SUMMARY:EDEC Swimming - Lilydale
DESCRIPTION:
URL:https://eps.vic.edu.au/event/edec-swimming-lilydale/
CATEGORIES:Grade 1,Grade 2,Grade 3,Grade 4,Grade 5,Grade 6,Sports
END:VEVENT
BEGIN:VEVENT
DTSTART;TZID=Australia/Melbourne:20250228T151500
DTEND;TZID=Australia/Melbourne:20250228T154500
DTSTAMP:20260424T134159
CREATED:20250226T011114Z
LAST-MODIFIED:20250303T005722Z
UID:10002110-1740755700-1740757500@eps.vic.edu.au
SUMMARY:Secondhand Uniform Sale
DESCRIPTION:All items $5.00
URL:https://eps.vic.edu.au/event/secondhand-uniform-sale-2/
CATEGORIES:Grade 1,Grade 2,Grade 3,Grade 4,Grade 5,Grade 6
END:VEVENT
END:VCALENDAR