BEGIN:VCALENDAR
VERSION:2.0
PRODID:-//Emerald Primary School - ECPv6.15.18//NONSGML v1.0//EN
CALSCALE:GREGORIAN
METHOD:PUBLISH
X-ORIGINAL-URL:https://eps.vic.edu.au
X-WR-CALDESC:Events for Emerald Primary School
REFRESH-INTERVAL;VALUE=DURATION:PT1H
X-Robots-Tag:noindex
X-PUBLISHED-TTL:PT1H
BEGIN:VTIMEZONE
TZID:Australia/Melbourne
BEGIN:STANDARD
TZOFFSETFROM:+1100
TZOFFSETTO:+1000
TZNAME:AEST
DTSTART:20230401T160000
END:STANDARD
BEGIN:DAYLIGHT
TZOFFSETFROM:+1000
TZOFFSETTO:+1100
TZNAME:AEDT
DTSTART:20230930T160000
END:DAYLIGHT
BEGIN:STANDARD
TZOFFSETFROM:+1100
TZOFFSETTO:+1000
TZNAME:AEST
DTSTART:20240406T160000
END:STANDARD
BEGIN:DAYLIGHT
TZOFFSETFROM:+1000
TZOFFSETTO:+1100
TZNAME:AEDT
DTSTART:20241005T160000
END:DAYLIGHT
BEGIN:STANDARD
TZOFFSETFROM:+1100
TZOFFSETTO:+1000
TZNAME:AEST
DTSTART:20250405T160000
END:STANDARD
BEGIN:DAYLIGHT
TZOFFSETFROM:+1000
TZOFFSETTO:+1100
TZNAME:AEDT
DTSTART:20251004T160000
END:DAYLIGHT
END:VTIMEZONE
BEGIN:VEVENT
DTSTART;TZID=Australia/Melbourne:20241007T000000
DTEND;TZID=Australia/Melbourne:20241007T000000
DTSTAMP:20260425T024535
CREATED:20240717T235507Z
LAST-MODIFIED:20240717T235507Z
UID:10002059-1728259200-1728259200@eps.vic.edu.au
SUMMARY:Term 4 Commences
DESCRIPTION:
URL:https://eps.vic.edu.au/event/term-4-commences-2024/
CATEGORIES:Term Dates
END:VEVENT
BEGIN:VEVENT
DTSTART;VALUE=DATE:20241016
DTEND;VALUE=DATE:20241017
DTSTAMP:20260425T024535
CREATED:20240911T023847Z
LAST-MODIFIED:20240911T023921Z
UID:10002071-1729036800-1729123199@eps.vic.edu.au
SUMMARY:Japanese Day
DESCRIPTION:Konnichiwa! \nJapanese Day will be a whole day of Japan-related activities\, entertainment\, art\, craft\, workshops\, music\, games\, incursions and more! \nCostumes –  \nDressing up is a highlight of the day and we will have a costume parade with the whole school. But please don’t buy a costume. In class\, we’re talking about how to be creative and use things that we already have.
URL:https://eps.vic.edu.au/event/japanese-day/
CATEGORIES:Grade 1,Grade 2,Grade 3,Grade 4,Grade 5,Grade 6,Prep
END:VEVENT
BEGIN:VEVENT
DTSTART;TZID=Australia/Melbourne:20241026T113000
DTEND;TZID=Australia/Melbourne:20241026T160000
DTSTAMP:20260425T024535
CREATED:20240911T023533Z
LAST-MODIFIED:20250421T233522Z
UID:10002070-1729942200-1729958400@eps.vic.edu.au
SUMMARY:Emerald School Fair 2024
DESCRIPTION:
URL:https://eps.vic.edu.au/event/emerald-school-fair-2024/
CATEGORIES:Event
END:VEVENT
BEGIN:VEVENT
DTSTART;VALUE=DATE:20241030
DTEND;VALUE=DATE:20241102
DTSTAMP:20260425T024535
CREATED:20240723T051045Z
LAST-MODIFIED:20240723T051045Z
UID:10002060-1730246400-1730505599@eps.vic.edu.au
SUMMARY:Grade 4 Camp
DESCRIPTION:
URL:https://eps.vic.edu.au/event/grade-4-camp-2024/
CATEGORIES:Grade 4
END:VEVENT
END:VCALENDAR