BEGIN:VCALENDAR
VERSION:2.0
PRODID:-//Emerald Primary School - ECPv6.15.18//NONSGML v1.0//EN
CALSCALE:GREGORIAN
METHOD:PUBLISH
X-WR-CALNAME:Emerald Primary School
X-ORIGINAL-URL:https://eps.vic.edu.au
X-WR-CALDESC:Events for Emerald Primary School
REFRESH-INTERVAL;VALUE=DURATION:PT1H
X-Robots-Tag:noindex
X-PUBLISHED-TTL:PT1H
BEGIN:VTIMEZONE
TZID:Australia/Melbourne
BEGIN:STANDARD
TZOFFSETFROM:+1100
TZOFFSETTO:+1000
TZNAME:AEST
DTSTART:20230401T160000
END:STANDARD
BEGIN:DAYLIGHT
TZOFFSETFROM:+1000
TZOFFSETTO:+1100
TZNAME:AEDT
DTSTART:20230930T160000
END:DAYLIGHT
BEGIN:STANDARD
TZOFFSETFROM:+1100
TZOFFSETTO:+1000
TZNAME:AEST
DTSTART:20240406T160000
END:STANDARD
BEGIN:DAYLIGHT
TZOFFSETFROM:+1000
TZOFFSETTO:+1100
TZNAME:AEDT
DTSTART:20241005T160000
END:DAYLIGHT
BEGIN:STANDARD
TZOFFSETFROM:+1100
TZOFFSETTO:+1000
TZNAME:AEST
DTSTART:20250405T160000
END:STANDARD
BEGIN:DAYLIGHT
TZOFFSETFROM:+1000
TZOFFSETTO:+1100
TZNAME:AEDT
DTSTART:20251004T160000
END:DAYLIGHT
END:VTIMEZONE
BEGIN:VEVENT
DTSTART;VALUE=DATE:20240401
DTEND;VALUE=DATE:20240402
DTSTAMP:20260425T012806
CREATED:20240220T231704Z
LAST-MODIFIED:20240220T231704Z
UID:10000206-1711929600-1712015999@eps.vic.edu.au
SUMMARY:Easter Monday
DESCRIPTION:
URL:https://eps.vic.edu.au/event/easter-monday/
END:VEVENT
BEGIN:VEVENT
DTSTART;VALUE=DATE:20240415
DTEND;VALUE=DATE:20240416
DTSTAMP:20260425T012806
CREATED:20240229T000611Z
LAST-MODIFIED:20240229T000611Z
UID:10000209-1713139200-1713225599@eps.vic.edu.au
SUMMARY:Term 2 Commences
DESCRIPTION:
URL:https://eps.vic.edu.au/event/term-2-commences-2/
CATEGORIES:Term Dates
END:VEVENT
BEGIN:VEVENT
DTSTART;VALUE=DATE:20240415
DTEND;VALUE=DATE:20240416
DTSTAMP:20260425T012806
CREATED:20240306T041929Z
LAST-MODIFIED:20240319T010208Z
UID:10000218-1713139200-1713225599@eps.vic.edu.au
SUMMARY:Curriculum Day - No students at school
DESCRIPTION:
URL:https://eps.vic.edu.au/event/curriculum-day-no-students-at-school-6/
CATEGORIES:Curriculum Day
END:VEVENT
BEGIN:VEVENT
DTSTART;VALUE=DATE:20240416
DTEND;VALUE=DATE:20240417
DTSTAMP:20260425T012806
CREATED:20240312T034638Z
LAST-MODIFIED:20240312T034638Z
UID:10000220-1713225600-1713311999@eps.vic.edu.au
SUMMARY:Students return to school.
DESCRIPTION:
URL:https://eps.vic.edu.au/event/students-return-to-school-2/
END:VEVENT
BEGIN:VEVENT
DTSTART;TZID=Australia/Melbourne:20240419T091500
DTEND;TZID=Australia/Melbourne:20240419T094500
DTSTAMP:20260425T012806
CREATED:20240306T042224Z
LAST-MODIFIED:20240306T042224Z
UID:10000219-1713518100-1713519900@eps.vic.edu.au
SUMMARY:Assembly - Crazy Hair Day
DESCRIPTION:Mrs Opperman cutting her hair.  Gold coin donation.
URL:https://eps.vic.edu.au/event/assembly-crazy-hair-day/
END:VEVENT
BEGIN:VEVENT
DTSTART;VALUE=DATE:20240425
DTEND;VALUE=DATE:20240426
DTSTAMP:20260425T012806
CREATED:20240313T225644Z
LAST-MODIFIED:20240319T010252Z
UID:10000224-1714003200-1714089599@eps.vic.edu.au
SUMMARY:ANZAC Day Public Holiday
DESCRIPTION:
URL:https://eps.vic.edu.au/event/anzac-day-public-holiday/
CATEGORIES:Public Holiday
END:VEVENT
END:VCALENDAR