BEGIN:VCALENDAR
VERSION:2.0
PRODID:-//Emerald Primary School - ECPv6.15.18//NONSGML v1.0//EN
CALSCALE:GREGORIAN
METHOD:PUBLISH
X-WR-CALNAME:Emerald Primary School
X-ORIGINAL-URL:https://eps.vic.edu.au
X-WR-CALDESC:Events for Emerald Primary School
REFRESH-INTERVAL;VALUE=DURATION:PT1H
X-Robots-Tag:noindex
X-PUBLISHED-TTL:PT1H
BEGIN:VTIMEZONE
TZID:Australia/Melbourne
BEGIN:STANDARD
TZOFFSETFROM:+1100
TZOFFSETTO:+1000
TZNAME:AEST
DTSTART:20250405T160000
END:STANDARD
BEGIN:DAYLIGHT
TZOFFSETFROM:+1000
TZOFFSETTO:+1100
TZNAME:AEDT
DTSTART:20251004T160000
END:DAYLIGHT
BEGIN:STANDARD
TZOFFSETFROM:+1100
TZOFFSETTO:+1000
TZNAME:AEST
DTSTART:20260404T160000
END:STANDARD
BEGIN:DAYLIGHT
TZOFFSETFROM:+1000
TZOFFSETTO:+1100
TZNAME:AEDT
DTSTART:20261003T160000
END:DAYLIGHT
BEGIN:STANDARD
TZOFFSETFROM:+1100
TZOFFSETTO:+1000
TZNAME:AEST
DTSTART:20270403T160000
END:STANDARD
BEGIN:DAYLIGHT
TZOFFSETFROM:+1000
TZOFFSETTO:+1100
TZNAME:AEDT
DTSTART:20271002T160000
END:DAYLIGHT
END:VTIMEZONE
BEGIN:VEVENT
DTSTART;TZID=Australia/Melbourne:20260128T090000
DTEND;TZID=Australia/Melbourne:20260128T153000
DTSTAMP:20260421T114309
CREATED:20251210T035654Z
LAST-MODIFIED:20251210T035654Z
UID:10002239-1769590800-1769614200@eps.vic.edu.au
SUMMARY:Term 1 Commences for Grades 1 - 6 - start 9am
DESCRIPTION:Preps Commence 29th January  \n 
URL:https://eps.vic.edu.au/event/term-1-commences-2026/
CATEGORIES:Term Dates
END:VEVENT
BEGIN:VEVENT
DTSTART;TZID=Australia/Melbourne:20260129T093000
DTEND;TZID=Australia/Melbourne:20260129T130000
DTSTAMP:20260421T114309
CREATED:20251210T041644Z
LAST-MODIFIED:20251211T030927Z
UID:10002240-1769679000-1769691600@eps.vic.edu.au
SUMMARY:Term 1 Commences for Preps - start at 9.30am
DESCRIPTION:  \n 
URL:https://eps.vic.edu.au/event/term-1-commences-2026-2/
CATEGORIES:Term Dates
END:VEVENT
END:VCALENDAR