BEGIN:VCALENDAR
VERSION:2.0
PRODID:-//Emerald Primary School - ECPv6.15.18//NONSGML v1.0//EN
CALSCALE:GREGORIAN
METHOD:PUBLISH
X-ORIGINAL-URL:https://eps.vic.edu.au
X-WR-CALDESC:Events for Emerald Primary School
REFRESH-INTERVAL;VALUE=DURATION:PT1H
X-Robots-Tag:noindex
X-PUBLISHED-TTL:PT1H
BEGIN:VTIMEZONE
TZID:Australia/Melbourne
BEGIN:STANDARD
TZOFFSETFROM:+1100
TZOFFSETTO:+1000
TZNAME:AEST
DTSTART:20220402T160000
END:STANDARD
BEGIN:DAYLIGHT
TZOFFSETFROM:+1000
TZOFFSETTO:+1100
TZNAME:AEDT
DTSTART:20221001T160000
END:DAYLIGHT
BEGIN:STANDARD
TZOFFSETFROM:+1100
TZOFFSETTO:+1000
TZNAME:AEST
DTSTART:20230401T160000
END:STANDARD
BEGIN:DAYLIGHT
TZOFFSETFROM:+1000
TZOFFSETTO:+1100
TZNAME:AEDT
DTSTART:20230930T160000
END:DAYLIGHT
BEGIN:STANDARD
TZOFFSETFROM:+1100
TZOFFSETTO:+1000
TZNAME:AEST
DTSTART:20240406T160000
END:STANDARD
BEGIN:DAYLIGHT
TZOFFSETFROM:+1000
TZOFFSETTO:+1100
TZNAME:AEDT
DTSTART:20241005T160000
END:DAYLIGHT
END:VTIMEZONE
BEGIN:VEVENT
DTSTART;TZID=Australia/Melbourne:20231207T191500
DTEND;TZID=Australia/Melbourne:20231207T200000
DTSTAMP:20260421T065917
CREATED:20230621T230636Z
LAST-MODIFIED:20231122T064146Z
UID:10000196-1701976500-1701979200@eps.vic.edu.au
SUMMARY:School Council Meeting
DESCRIPTION:
URL:https://eps.vic.edu.au/event/school-council-meeting/2023-12-07/
CATEGORIES:School Council
END:VEVENT
BEGIN:VEVENT
DTSTART;TZID=Australia/Melbourne:20231207T190000
DTEND;TZID=Australia/Melbourne:20231207T191500
DTSTAMP:20260421T065917
CREATED:20230621T225503Z
LAST-MODIFIED:20231122T064350Z
UID:10000197-1701975600-1701976500@eps.vic.edu.au
SUMMARY:Finance Meeting
DESCRIPTION:
URL:https://eps.vic.edu.au/event/finance-meeting-3/2023-12-07/
CATEGORIES:School Council
END:VEVENT
BEGIN:VEVENT
DTSTART;TZID=Australia/Melbourne:20231102T191500
DTEND;TZID=Australia/Melbourne:20231102T200000
DTSTAMP:20260421T065917
CREATED:20230621T230636Z
LAST-MODIFIED:20231122T064146Z
UID:10000123-1698952500-1698955200@eps.vic.edu.au
SUMMARY:School Council Meeting
DESCRIPTION:
URL:https://eps.vic.edu.au/event/school-council-meeting/2023-11-02/
CATEGORIES:School Council
END:VEVENT
BEGIN:VEVENT
DTSTART;TZID=Australia/Melbourne:20231102T190000
DTEND;TZID=Australia/Melbourne:20231102T191500
DTSTAMP:20260421T065917
CREATED:20230621T225503Z
LAST-MODIFIED:20231122T064350Z
UID:10000128-1698951600-1698952500@eps.vic.edu.au
SUMMARY:Finance Meeting
DESCRIPTION:
URL:https://eps.vic.edu.au/event/finance-meeting-3/2023-11-02/
CATEGORIES:School Council
END:VEVENT
BEGIN:VEVENT
DTSTART;TZID=Australia/Melbourne:20231012T191500
DTEND;TZID=Australia/Melbourne:20231012T200000
DTSTAMP:20260421T065917
CREATED:20230621T230636Z
LAST-MODIFIED:20231122T064146Z
UID:10000122-1697138100-1697140800@eps.vic.edu.au
SUMMARY:School Council Meeting
DESCRIPTION:
URL:https://eps.vic.edu.au/event/school-council-meeting/2023-10-12/
CATEGORIES:School Council
END:VEVENT
BEGIN:VEVENT
DTSTART;TZID=Australia/Melbourne:20231012T190000
DTEND;TZID=Australia/Melbourne:20231012T191500
DTSTAMP:20260421T065917
CREATED:20230621T225503Z
LAST-MODIFIED:20231122T064350Z
UID:10000127-1697137200-1697138100@eps.vic.edu.au
SUMMARY:Finance Meeting
DESCRIPTION:
URL:https://eps.vic.edu.au/event/finance-meeting-3/2023-10-12/
CATEGORIES:School Council
END:VEVENT
BEGIN:VEVENT
DTSTART;TZID=Australia/Melbourne:20230914T191500
DTEND;TZID=Australia/Melbourne:20230914T200000
DTSTAMP:20260421T065917
CREATED:20230621T230636Z
LAST-MODIFIED:20231122T064146Z
UID:10000121-1694718900-1694721600@eps.vic.edu.au
SUMMARY:School Council Meeting
DESCRIPTION:
URL:https://eps.vic.edu.au/event/school-council-meeting/2023-09-14/
CATEGORIES:School Council
END:VEVENT
BEGIN:VEVENT
DTSTART;TZID=Australia/Melbourne:20230914T190000
DTEND;TZID=Australia/Melbourne:20230914T191500
DTSTAMP:20260421T065917
CREATED:20230621T225503Z
LAST-MODIFIED:20231122T064350Z
UID:10000126-1694718000-1694718900@eps.vic.edu.au
SUMMARY:Finance Meeting
DESCRIPTION:
URL:https://eps.vic.edu.au/event/finance-meeting-3/2023-09-14/
CATEGORIES:School Council
END:VEVENT
BEGIN:VEVENT
DTSTART;TZID=Australia/Melbourne:20230810T191500
DTEND;TZID=Australia/Melbourne:20230810T200000
DTSTAMP:20260421T065917
CREATED:20230621T230636Z
LAST-MODIFIED:20231122T064146Z
UID:10000120-1691694900-1691697600@eps.vic.edu.au
SUMMARY:School Council Meeting
DESCRIPTION:
URL:https://eps.vic.edu.au/event/school-council-meeting/2023-08-10/
CATEGORIES:School Council
END:VEVENT
BEGIN:VEVENT
DTSTART;TZID=Australia/Melbourne:20230810T190000
DTEND;TZID=Australia/Melbourne:20230810T191500
DTSTAMP:20260421T065917
CREATED:20230621T225503Z
LAST-MODIFIED:20231122T064350Z
UID:10000125-1691694000-1691694900@eps.vic.edu.au
SUMMARY:Finance Meeting
DESCRIPTION:
URL:https://eps.vic.edu.au/event/finance-meeting-3/2023-08-10/
CATEGORIES:School Council
END:VEVENT
BEGIN:VEVENT
DTSTART;TZID=Australia/Melbourne:20230713T191500
DTEND;TZID=Australia/Melbourne:20230713T200000
DTSTAMP:20260421T065917
CREATED:20230621T230636Z
LAST-MODIFIED:20231122T064146Z
UID:10000119-1689275700-1689278400@eps.vic.edu.au
SUMMARY:School Council Meeting
DESCRIPTION:
URL:https://eps.vic.edu.au/event/school-council-meeting/2023-07-13/
CATEGORIES:School Council
END:VEVENT
BEGIN:VEVENT
DTSTART;TZID=Australia/Melbourne:20230713T190000
DTEND;TZID=Australia/Melbourne:20230713T191500
DTSTAMP:20260421T065917
CREATED:20230621T225503Z
LAST-MODIFIED:20231122T064350Z
UID:10000116-1689274800-1689275700@eps.vic.edu.au
SUMMARY:Finance Meeting
DESCRIPTION:
URL:https://eps.vic.edu.au/event/finance-meeting-3/2023-07-13/
CATEGORIES:School Council
END:VEVENT
BEGIN:VEVENT
DTSTART;TZID=Australia/Melbourne:20230608T190000
DTEND;TZID=Australia/Melbourne:20230608T191500
DTSTAMP:20260421T065917
CREATED:20230524T045018Z
LAST-MODIFIED:20230621T231542Z
UID:10000101-1686250800-1686251700@eps.vic.edu.au
SUMMARY:Finance Meeting
DESCRIPTION:
URL:https://eps.vic.edu.au/event/finance-meeting-2/
CATEGORIES:School Council
END:VEVENT
END:VCALENDAR