BEGIN:VCALENDAR
VERSION:2.0
PRODID:-//Emerald Primary School - ECPv6.15.18//NONSGML v1.0//EN
CALSCALE:GREGORIAN
METHOD:PUBLISH
X-WR-CALNAME:Emerald Primary School
X-ORIGINAL-URL:https://eps.vic.edu.au
X-WR-CALDESC:Events for Emerald Primary School
REFRESH-INTERVAL;VALUE=DURATION:PT1H
X-Robots-Tag:noindex
X-PUBLISHED-TTL:PT1H
BEGIN:VTIMEZONE
TZID:Australia/Melbourne
BEGIN:STANDARD
TZOFFSETFROM:+1100
TZOFFSETTO:+1000
TZNAME:AEST
DTSTART:20220402T160000
END:STANDARD
BEGIN:DAYLIGHT
TZOFFSETFROM:+1000
TZOFFSETTO:+1100
TZNAME:AEDT
DTSTART:20221001T160000
END:DAYLIGHT
BEGIN:STANDARD
TZOFFSETFROM:+1100
TZOFFSETTO:+1000
TZNAME:AEST
DTSTART:20230401T160000
END:STANDARD
BEGIN:DAYLIGHT
TZOFFSETFROM:+1000
TZOFFSETTO:+1100
TZNAME:AEDT
DTSTART:20230930T160000
END:DAYLIGHT
BEGIN:STANDARD
TZOFFSETFROM:+1100
TZOFFSETTO:+1000
TZNAME:AEST
DTSTART:20240406T160000
END:STANDARD
BEGIN:DAYLIGHT
TZOFFSETFROM:+1000
TZOFFSETTO:+1100
TZNAME:AEDT
DTSTART:20241005T160000
END:DAYLIGHT
BEGIN:STANDARD
TZOFFSETFROM:+1100
TZOFFSETTO:+1000
TZNAME:AEST
DTSTART:20250405T160000
END:STANDARD
BEGIN:DAYLIGHT
TZOFFSETFROM:+1000
TZOFFSETTO:+1100
TZNAME:AEDT
DTSTART:20251004T160000
END:DAYLIGHT
END:VTIMEZONE
BEGIN:VEVENT
DTSTART;VALUE=DATE:20230508
DTEND;VALUE=DATE:20230513
DTSTAMP:20260424T014248
CREATED:20230504T040914Z
LAST-MODIFIED:20230504T040914Z
UID:10000087-1683504000-1683935999@eps.vic.edu.au
SUMMARY:Swimming Grades Prep - 3
DESCRIPTION:
URL:https://eps.vic.edu.au/event/swimming-grades-prep-3/
CATEGORIES:Grade 1,Grade 2,Grade 3,Prep
END:VEVENT
BEGIN:VEVENT
DTSTART;TZID=Australia/Melbourne:20230512T150000
DTEND;TZID=Australia/Melbourne:20230512T153000
DTSTAMP:20260424T014248
CREATED:20230508T222836Z
LAST-MODIFIED:20230508T222836Z
UID:10000092-1683903600-1683905400@eps.vic.edu.au
SUMMARY:Assembly
DESCRIPTION:
URL:https://eps.vic.edu.au/event/assembly-2/
CATEGORIES:Grade 1,Grade 2,Grade 3,Grade 4,Grade 5,Grade 6,Prep
END:VEVENT
BEGIN:VEVENT
DTSTART;TZID=Australia/Melbourne:20230517T180000
DTEND;TZID=Australia/Melbourne:20230517T190000
DTSTAMP:20260424T014248
CREATED:20230504T021804Z
LAST-MODIFIED:20230504T023054Z
UID:10000078-1684346400-1684350000@eps.vic.edu.au
SUMMARY:Junior School Parent Info Session - Literacy
DESCRIPTION:All parents of students in Prep\, Grade 1 and Grade 2 are invited to an information evening in the Library on Wednesday 17th May at 6pm to hear more information about the approach to Literacy teaching at EPS for the junior school students\, so that we can continue to build the connections between home and school to support learning.
URL:https://eps.vic.edu.au/event/junior-school-parent-info-session-literacy/
CATEGORIES:Grade 1,Grade 2,Prep
END:VEVENT
BEGIN:VEVENT
DTSTART;VALUE=DATE:20230519
DTEND;VALUE=DATE:20230520
DTSTAMP:20260424T014248
CREATED:20230510T224021Z
LAST-MODIFIED:20230510T224021Z
UID:10000096-1684454400-1684540799@eps.vic.edu.au
SUMMARY:Walk to School Day
DESCRIPTION:
URL:https://eps.vic.edu.au/event/walk-to-school-day/
CATEGORIES:Grade 1,Grade 2,Grade 3,Grade 4,Grade 5,Grade 6,Prep
END:VEVENT
BEGIN:VEVENT
DTSTART;VALUE=DATE:20230605
DTEND;VALUE=DATE:20230610
DTSTAMP:20260424T014248
CREATED:20230504T041702Z
LAST-MODIFIED:20230504T041708Z
UID:10000089-1685923200-1686355199@eps.vic.edu.au
SUMMARY:Swimming Grades Prep - 3
DESCRIPTION:
URL:https://eps.vic.edu.au/event/swimming-grades-prep-3-2/
CATEGORIES:Grade 1,Grade 2,Grade 3,Prep
END:VEVENT
BEGIN:VEVENT
DTSTART;TZID=Australia/Melbourne:20230616T091500
DTEND;TZID=Australia/Melbourne:20230616T094500
DTSTAMP:20260424T014248
CREATED:20230531T015601Z
LAST-MODIFIED:20230531T015601Z
UID:10000107-1686906900-1686908700@eps.vic.edu.au
SUMMARY:Assembly
DESCRIPTION:
URL:https://eps.vic.edu.au/event/assembly-3/2023-06-16/
CATEGORIES:Grade 1,Grade 2,Grade 3,Grade 4,Grade 5,Grade 6,Prep
END:VEVENT
BEGIN:VEVENT
DTSTART;VALUE=DATE:20230619
DTEND;VALUE=DATE:20230620
DTSTAMP:20260424T014248
CREATED:20230321T041551Z
LAST-MODIFIED:20230321T041551Z
UID:10000076-1687132800-1687219199@eps.vic.edu.au
SUMMARY:School Photos
DESCRIPTION:
URL:https://eps.vic.edu.au/event/school-photos-2/
CATEGORIES:Grade 1,Grade 2,Grade 3,Grade 4,Grade 5,Grade 6,Prep
END:VEVENT
BEGIN:VEVENT
DTSTART;TZID=Australia/Melbourne:20230622T093000
DTEND;TZID=Australia/Melbourne:20230622T203000
DTSTAMP:20260424T014248
CREATED:20230518T042531Z
LAST-MODIFIED:20230518T042531Z
UID:10000098-1687426200-1687465800@eps.vic.edu.au
SUMMARY:Parent - Teacher Interview Day - No Students at School
DESCRIPTION:The mid-year Parent-Teacher interviews will be held on Thursday 22nd June. This is an opportunity for parents and carers to discuss their child’s progress and the next steps in their learning with the grade teacher. The interviews start at 9.30am and go through until 8pm\, so there will be no classes on this day.
URL:https://eps.vic.edu.au/event/parent-teacher-interview-day-no-students-at-school/
CATEGORIES:Grade 1,Grade 2,Grade 3,Grade 4,Grade 5,Grade 6,Prep
END:VEVENT
BEGIN:VEVENT
DTSTART;VALUE=DATE:20230623
DTEND;VALUE=DATE:20230624
DTSTAMP:20260424T014248
CREATED:20230531T014232Z
LAST-MODIFIED:20230531T014354Z
UID:10000104-1687478400-1687564799@eps.vic.edu.au
SUMMARY:Canteen Closed
DESCRIPTION:
URL:https://eps.vic.edu.au/event/canteen-closed/
CATEGORIES:Grade 1,Grade 2,Grade 3,Grade 4,Grade 5,Grade 6,Prep
END:VEVENT
BEGIN:VEVENT
DTSTART;TZID=Australia/Melbourne:20230623T091500
DTEND;TZID=Australia/Melbourne:20230623T094500
DTSTAMP:20260424T014248
CREATED:20230531T015601Z
LAST-MODIFIED:20230531T015601Z
UID:10000108-1687511700-1687513500@eps.vic.edu.au
SUMMARY:Assembly
DESCRIPTION:
URL:https://eps.vic.edu.au/event/assembly-3/2023-06-23/
CATEGORIES:Grade 1,Grade 2,Grade 3,Grade 4,Grade 5,Grade 6,Prep
END:VEVENT
BEGIN:VEVENT
DTSTART;VALUE=DATE:20230727
DTEND;VALUE=DATE:20230728
DTSTAMP:20260424T014248
CREATED:20230719T000242Z
LAST-MODIFIED:20230719T000627Z
UID:10000134-1690416000-1690502399@eps.vic.edu.au
SUMMARY:Sports Free Dress Day
DESCRIPTION:
URL:https://eps.vic.edu.au/event/free-dress/
CATEGORIES:Grade 1,Grade 2,Grade 3,Grade 4,Grade 5,Grade 6,Prep
END:VEVENT
BEGIN:VEVENT
DTSTART;TZID=Australia/Melbourne:20230728T091500
DTEND;TZID=Australia/Melbourne:20230728T094500
DTSTAMP:20260424T014248
CREATED:20230727T005706Z
LAST-MODIFIED:20230727T005941Z
UID:10000138-1690535700-1690537500@eps.vic.edu.au
SUMMARY:Assembly
DESCRIPTION:
URL:https://eps.vic.edu.au/event/assembly-4/2023-07-28/
CATEGORIES:Grade 1,Grade 2,Grade 3,Grade 4,Grade 5,Grade 6,Prep
END:VEVENT
BEGIN:VEVENT
DTSTART;TZID=Australia/Melbourne:20230801T095000
DTEND;TZID=Australia/Melbourne:20230801T120000
DTSTAMP:20260424T014248
CREATED:20230621T232145Z
LAST-MODIFIED:20230621T232145Z
UID:10000130-1690883400-1690891200@eps.vic.edu.au
SUMMARY:Prep Responsible Pet Ownership Incusion
DESCRIPTION:
URL:https://eps.vic.edu.au/event/prep-responsible-pet-ownership-incusion/
CATEGORIES:Prep
END:VEVENT
BEGIN:VEVENT
DTSTART;VALUE=DATE:20230809
DTEND;VALUE=DATE:20230810
DTSTAMP:20260424T014248
CREATED:20230719T001019Z
LAST-MODIFIED:20230719T001019Z
UID:10000135-1691539200-1691625599@eps.vic.edu.au
SUMMARY:100 Days of Prep
DESCRIPTION:
URL:https://eps.vic.edu.au/event/100-days-of-prep/
CATEGORIES:Prep
END:VEVENT
BEGIN:VEVENT
DTSTART;TZID=Australia/Melbourne:20230811T091500
DTEND;TZID=Australia/Melbourne:20230811T094500
DTSTAMP:20260424T014248
CREATED:20230727T005706Z
LAST-MODIFIED:20230727T005941Z
UID:10000141-1691745300-1691747100@eps.vic.edu.au
SUMMARY:Assembly
DESCRIPTION:
URL:https://eps.vic.edu.au/event/assembly-4/2023-08-11/
CATEGORIES:Grade 1,Grade 2,Grade 3,Grade 4,Grade 5,Grade 6,Prep
END:VEVENT
BEGIN:VEVENT
DTSTART;VALUE=DATE:20230821
DTEND;VALUE=DATE:20230826
DTSTAMP:20260424T014248
CREATED:20230621T000123Z
LAST-MODIFIED:20230621T001921Z
UID:10000110-1692576000-1693007999@eps.vic.edu.au
SUMMARY:Smile Squad
DESCRIPTION:
URL:https://eps.vic.edu.au/event/smile-squad/
CATEGORIES:Grade 1,Grade 2,Grade 3,Grade 4,Grade 5,Grade 6,Prep
END:VEVENT
BEGIN:VEVENT
DTSTART;VALUE=DATE:20230821
DTEND;VALUE=DATE:20230826
DTSTAMP:20260424T014248
CREATED:20230802T053700Z
LAST-MODIFIED:20230802T053940Z
UID:10000148-1692576000-1693007999@eps.vic.edu.au
SUMMARY:Book Week Celebrations
DESCRIPTION:
URL:https://eps.vic.edu.au/event/book-week/
CATEGORIES:Grade 1,Grade 2,Grade 3,Grade 4,Grade 5,Grade 6,Prep
END:VEVENT
BEGIN:VEVENT
DTSTART;VALUE=DATE:20230825
DTEND;VALUE=DATE:20230826
DTSTAMP:20260424T014248
CREATED:20230802T053906Z
LAST-MODIFIED:20230824T004536Z
UID:10000149-1692921600-1693007999@eps.vic.edu.au
SUMMARY:Favourite Book Dress-up DAy & Whole School Read-In Day
DESCRIPTION:We would love to see all students coming dressed up as a character from their favourite book. It would be great if they can also bring in the book their character is from to share with their class. Costumes don’t have to be elaborate; we just want to celebrate our love of reading!  9:15am a Special Assembly will see a Parade of every grade level showing off their costumes and favourite books! Followed by a whole staff Performance of the classic ‘We’re Going on a Bear Hunt’ by Michael Rosen. We are very excited to have our Emerald Preschool join us for this special assembly!
URL:https://eps.vic.edu.au/event/favourite-book-dress-up-day-whole-school-read-in-day/
CATEGORIES:Grade 1,Grade 2,Grade 3,Grade 4,Grade 5,Grade 6,Prep
END:VEVENT
BEGIN:VEVENT
DTSTART;TZID=Australia/Melbourne:20230825T091500
DTEND;TZID=Australia/Melbourne:20230825T094500
DTSTAMP:20260424T014248
CREATED:20230727T005706Z
LAST-MODIFIED:20230727T005941Z
UID:10000143-1692954900-1692956700@eps.vic.edu.au
SUMMARY:Assembly
DESCRIPTION:
URL:https://eps.vic.edu.au/event/assembly-4/2023-08-25/
CATEGORIES:Grade 1,Grade 2,Grade 3,Grade 4,Grade 5,Grade 6,Prep
END:VEVENT
BEGIN:VEVENT
DTSTART;VALUE=DATE:20230828
DTEND;VALUE=DATE:20230902
DTSTAMP:20260424T014248
CREATED:20230621T001753Z
LAST-MODIFIED:20230621T001753Z
UID:10000115-1693180800-1693612799@eps.vic.edu.au
SUMMARY:Smile Squad
DESCRIPTION:
URL:https://eps.vic.edu.au/event/smile-squad-2/
CATEGORIES:Grade 1,Grade 2,Grade 3,Grade 4,Grade 5,Grade 6,Prep
END:VEVENT
BEGIN:VEVENT
DTSTART;TZID=Australia/Melbourne:20230908T091500
DTEND;TZID=Australia/Melbourne:20230908T094500
DTSTAMP:20260424T014248
CREATED:20230727T005706Z
LAST-MODIFIED:20230727T005941Z
UID:10000144-1694164500-1694166300@eps.vic.edu.au
SUMMARY:Assembly
DESCRIPTION:
URL:https://eps.vic.edu.au/event/assembly-4/2023-09-08/
CATEGORIES:Grade 1,Grade 2,Grade 3,Grade 4,Grade 5,Grade 6,Prep
END:VEVENT
BEGIN:VEVENT
DTSTART;VALUE=DATE:20240207
DTEND;VALUE=DATE:20240208
DTSTAMP:20260424T014248
CREATED:20231017T035431Z
LAST-MODIFIED:20231017T035431Z
UID:10000191-1707264000-1707350399@eps.vic.edu.au
SUMMARY:No Preps - Prep Testing day
DESCRIPTION:
URL:https://eps.vic.edu.au/event/no-preps-prep-testing-day/2024-02-07/
CATEGORIES:Prep
END:VEVENT
BEGIN:VEVENT
DTSTART;VALUE=DATE:20240214
DTEND;VALUE=DATE:20240215
DTSTAMP:20260424T014248
CREATED:20231017T035431Z
LAST-MODIFIED:20231017T035431Z
UID:10000192-1707868800-1707955199@eps.vic.edu.au
SUMMARY:No Preps - Prep Testing day
DESCRIPTION:
URL:https://eps.vic.edu.au/event/no-preps-prep-testing-day/2024-02-14/
CATEGORIES:Prep
END:VEVENT
BEGIN:VEVENT
DTSTART;VALUE=DATE:20240221
DTEND;VALUE=DATE:20240222
DTSTAMP:20260424T014249
CREATED:20231017T035431Z
LAST-MODIFIED:20231017T035431Z
UID:10000193-1708473600-1708559999@eps.vic.edu.au
SUMMARY:No Preps - Prep Testing day
DESCRIPTION:
URL:https://eps.vic.edu.au/event/no-preps-prep-testing-day/2024-02-21/
CATEGORIES:Prep
END:VEVENT
BEGIN:VEVENT
DTSTART;VALUE=DATE:20240228
DTEND;VALUE=DATE:20240229
DTSTAMP:20260424T014249
CREATED:20231017T035431Z
LAST-MODIFIED:20231017T035431Z
UID:10000194-1709078400-1709164799@eps.vic.edu.au
SUMMARY:No Preps - Prep Testing day
DESCRIPTION:
URL:https://eps.vic.edu.au/event/no-preps-prep-testing-day/2024-02-28/
CATEGORIES:Prep
END:VEVENT
BEGIN:VEVENT
DTSTART;VALUE=DATE:20240306
DTEND;VALUE=DATE:20240307
DTSTAMP:20260424T014249
CREATED:20231017T035431Z
LAST-MODIFIED:20231017T035431Z
UID:10000195-1709683200-1709769599@eps.vic.edu.au
SUMMARY:No Preps - Prep Testing day
DESCRIPTION:
URL:https://eps.vic.edu.au/event/no-preps-prep-testing-day/2024-03-06/
CATEGORIES:Prep
END:VEVENT
BEGIN:VEVENT
DTSTART;TZID=Australia/Melbourne:20240306T180000
DTEND;TZID=Australia/Melbourne:20240306T183000
DTSTAMP:20260424T014249
CREATED:20240306T012438Z
LAST-MODIFIED:20240306T012721Z
UID:10000210-1709748000-1709749800@eps.vic.edu.au
SUMMARY:Student Information Session - Prep - Grade 2
DESCRIPTION:Prep-Grade 2 Information Session (6.00pm)
URL:https://eps.vic.edu.au/event/student-information-session/
CATEGORIES:Grade 1,Grade 2,Prep
END:VEVENT
BEGIN:VEVENT
DTSTART;TZID=Australia/Melbourne:20240315T090000
DTEND;TZID=Australia/Melbourne:20240315T093000
DTSTAMP:20260424T014249
CREATED:20240313T220205Z
LAST-MODIFIED:20240319T010736Z
UID:10000223-1710493200-1710495000@eps.vic.edu.au
SUMMARY:Assembly
DESCRIPTION:
URL:https://eps.vic.edu.au/event/assembly-14/
CATEGORIES:Grade 1,Grade 2,Grade 3,Grade 4,Grade 5,Grade 6,Prep
END:VEVENT
BEGIN:VEVENT
DTSTART;TZID=Australia/Melbourne:20240315T090000
DTEND;TZID=Australia/Melbourne:20240315T093000
DTSTAMP:20260424T014249
CREATED:20240319T005957Z
LAST-MODIFIED:20240319T010826Z
UID:10002016-1710493200-1710495000@eps.vic.edu.au
SUMMARY:Assembly
DESCRIPTION:
URL:https://eps.vic.edu.au/event/assembly-15/2024-03-15/
CATEGORIES:Grade 1,Grade 2,Grade 3,Grade 4,Grade 5,Grade 6,Prep
END:VEVENT
BEGIN:VEVENT
DTSTART;TZID=Australia/Melbourne:20240328T091500
DTEND;TZID=Australia/Melbourne:20240328T094500
DTSTAMP:20260424T014249
CREATED:20240319T005957Z
LAST-MODIFIED:20240319T010826Z
UID:10002017-1711617300-1711619100@eps.vic.edu.au
SUMMARY:Assembly
DESCRIPTION:
URL:https://eps.vic.edu.au/event/assembly-15/2024-03-28/
CATEGORIES:Grade 1,Grade 2,Grade 3,Grade 4,Grade 5,Grade 6,Prep
END:VEVENT
END:VCALENDAR