BEGIN:VCALENDAR
VERSION:2.0
PRODID:-//Emerald Primary School - ECPv6.15.18//NONSGML v1.0//EN
CALSCALE:GREGORIAN
METHOD:PUBLISH
X-ORIGINAL-URL:https://eps.vic.edu.au
X-WR-CALDESC:Events for Emerald Primary School
REFRESH-INTERVAL;VALUE=DURATION:PT1H
X-Robots-Tag:noindex
X-PUBLISHED-TTL:PT1H
BEGIN:VTIMEZONE
TZID:Australia/Melbourne
BEGIN:STANDARD
TZOFFSETFROM:+1100
TZOFFSETTO:+1000
TZNAME:AEST
DTSTART:20230401T160000
END:STANDARD
BEGIN:DAYLIGHT
TZOFFSETFROM:+1000
TZOFFSETTO:+1100
TZNAME:AEDT
DTSTART:20230930T160000
END:DAYLIGHT
BEGIN:STANDARD
TZOFFSETFROM:+1100
TZOFFSETTO:+1000
TZNAME:AEST
DTSTART:20240406T160000
END:STANDARD
BEGIN:DAYLIGHT
TZOFFSETFROM:+1000
TZOFFSETTO:+1100
TZNAME:AEDT
DTSTART:20241005T160000
END:DAYLIGHT
BEGIN:STANDARD
TZOFFSETFROM:+1100
TZOFFSETTO:+1000
TZNAME:AEST
DTSTART:20250405T160000
END:STANDARD
BEGIN:DAYLIGHT
TZOFFSETFROM:+1000
TZOFFSETTO:+1100
TZNAME:AEDT
DTSTART:20251004T160000
END:DAYLIGHT
END:VTIMEZONE
BEGIN:VEVENT
DTSTART;TZID=Australia/Melbourne:20240529T100000
DTEND;TZID=Australia/Melbourne:20240529T140000
DTSTAMP:20260423T152229
CREATED:20240313T232433Z
LAST-MODIFIED:20240313T232433Z
UID:10002006-1716976800-1716991200@eps.vic.edu.au
SUMMARY:Swimming Program Grade 4 - Grade 6
DESCRIPTION:
URL:https://eps.vic.edu.au/event/swimming-program-grade-4-grade-6/2024-05-29/
CATEGORIES:Grade 4,Grade 5,Grade 6
END:VEVENT
BEGIN:VEVENT
DTSTART;TZID=Australia/Melbourne:20240530T100000
DTEND;TZID=Australia/Melbourne:20240530T140000
DTSTAMP:20260423T152229
CREATED:20240313T232433Z
LAST-MODIFIED:20240313T232433Z
UID:10002007-1717063200-1717077600@eps.vic.edu.au
SUMMARY:Swimming Program Grade 4 - Grade 6
DESCRIPTION:
URL:https://eps.vic.edu.au/event/swimming-program-grade-4-grade-6/2024-05-30/
CATEGORIES:Grade 4,Grade 5,Grade 6
END:VEVENT
BEGIN:VEVENT
DTSTART;TZID=Australia/Melbourne:20240531T091000
DTEND;TZID=Australia/Melbourne:20240531T093000
DTSTAMP:20260423T152229
CREATED:20240429T024948Z
LAST-MODIFIED:20240429T024948Z
UID:10002023-1717146600-1717147800@eps.vic.edu.au
SUMMARY:Assembly
DESCRIPTION:
URL:https://eps.vic.edu.au/event/assembly-term-2/2024-05-31/
CATEGORIES:Grade 1,Grade 2,Grade 3,Grade 4,Grade 5,Grade 6,Prep
END:VEVENT
BEGIN:VEVENT
DTSTART;TZID=Australia/Melbourne:20240531T100000
DTEND;TZID=Australia/Melbourne:20240531T140000
DTSTAMP:20260423T152229
CREATED:20240313T232433Z
LAST-MODIFIED:20240313T232433Z
UID:10002008-1717149600-1717164000@eps.vic.edu.au
SUMMARY:Swimming Program Grade 4 - Grade 6
DESCRIPTION:
URL:https://eps.vic.edu.au/event/swimming-program-grade-4-grade-6/2024-05-31/
CATEGORIES:Grade 4,Grade 5,Grade 6
END:VEVENT
BEGIN:VEVENT
DTSTART;TZID=Australia/Melbourne:20240603T100000
DTEND;TZID=Australia/Melbourne:20240603T140000
DTSTAMP:20260423T152229
CREATED:20240313T232433Z
LAST-MODIFIED:20240313T232433Z
UID:10002009-1717408800-1717423200@eps.vic.edu.au
SUMMARY:Swimming Program Grade 4 - Grade 6
DESCRIPTION:
URL:https://eps.vic.edu.au/event/swimming-program-grade-4-grade-6/2024-06-03/
CATEGORIES:Grade 4,Grade 5,Grade 6
END:VEVENT
BEGIN:VEVENT
DTSTART;TZID=Australia/Melbourne:20240605T100000
DTEND;TZID=Australia/Melbourne:20240605T140000
DTSTAMP:20260423T152229
CREATED:20240313T232433Z
LAST-MODIFIED:20240313T232433Z
UID:10002010-1717581600-1717596000@eps.vic.edu.au
SUMMARY:Swimming Program Grade 4 - Grade 6
DESCRIPTION:
URL:https://eps.vic.edu.au/event/swimming-program-grade-4-grade-6/2024-06-05/
CATEGORIES:Grade 4,Grade 5,Grade 6
END:VEVENT
BEGIN:VEVENT
DTSTART;TZID=Australia/Melbourne:20240606T100000
DTEND;TZID=Australia/Melbourne:20240606T140000
DTSTAMP:20260423T152229
CREATED:20240313T232433Z
LAST-MODIFIED:20240313T232433Z
UID:10002011-1717668000-1717682400@eps.vic.edu.au
SUMMARY:Swimming Program Grade 4 - Grade 6
DESCRIPTION:
URL:https://eps.vic.edu.au/event/swimming-program-grade-4-grade-6/2024-06-06/
CATEGORIES:Grade 4,Grade 5,Grade 6
END:VEVENT
BEGIN:VEVENT
DTSTART;TZID=Australia/Melbourne:20240607T100000
DTEND;TZID=Australia/Melbourne:20240607T140000
DTSTAMP:20260423T152229
CREATED:20240313T232433Z
LAST-MODIFIED:20240313T232433Z
UID:10002012-1717754400-1717768800@eps.vic.edu.au
SUMMARY:Swimming Program Grade 4 - Grade 6
DESCRIPTION:
URL:https://eps.vic.edu.au/event/swimming-program-grade-4-grade-6/2024-06-07/
CATEGORIES:Grade 4,Grade 5,Grade 6
END:VEVENT
BEGIN:VEVENT
DTSTART;TZID=Australia/Melbourne:20240612T090000
DTEND;TZID=Australia/Melbourne:20240612T150000
DTSTAMP:20260423T152229
CREATED:20240610T230818Z
LAST-MODIFIED:20240610T230818Z
UID:10002036-1718182800-1718204400@eps.vic.edu.au
SUMMARY:Lightning Premierships 2024 - Grade 6
DESCRIPTION:
URL:https://eps.vic.edu.au/event/lightning-premiership-grade-6-3/
CATEGORIES:Event,Grade 6,Sports
END:VEVENT
BEGIN:VEVENT
DTSTART;TZID=Australia/Melbourne:20240612T090000
DTEND;TZID=Australia/Melbourne:20240612T153000
DTSTAMP:20260423T152229
CREATED:20240611T024546Z
LAST-MODIFIED:20250421T233715Z
UID:10002038-1718182800-1718206200@eps.vic.edu.au
SUMMARY:"Thank a First Responder Day" - Free Dress and Gold Coin Donation
DESCRIPTION:
URL:https://eps.vic.edu.au/event/thank-a-first-responder-day-free-dress-and-gold-coin-donation/
CATEGORIES:Grade 1,Grade 2,Grade 3,Grade 4,Grade 5,Grade 6,Prep
END:VEVENT
BEGIN:VEVENT
DTSTART;TZID=Australia/Melbourne:20240614T091000
DTEND;TZID=Australia/Melbourne:20240614T093000
DTSTAMP:20260423T152229
CREATED:20240429T024948Z
LAST-MODIFIED:20240429T024948Z
UID:10002024-1718356200-1718357400@eps.vic.edu.au
SUMMARY:Assembly
DESCRIPTION:
URL:https://eps.vic.edu.au/event/assembly-term-2/2024-06-14/
CATEGORIES:Grade 1,Grade 2,Grade 3,Grade 4,Grade 5,Grade 6,Prep
END:VEVENT
BEGIN:VEVENT
DTSTART;TZID=Australia/Melbourne:20240614T151500
DTEND;TZID=Australia/Melbourne:20240614T154500
DTSTAMP:20260423T152229
CREATED:20240610T233451Z
LAST-MODIFIED:20240610T233451Z
UID:10002037-1718378100-1718379900@eps.vic.edu.au
SUMMARY:Secondhand Uniform Sale
DESCRIPTION:Thank you for all your kind donations \nbut the 2nd hand uniform shop is full. \nPlease no more donations. 
URL:https://eps.vic.edu.au/event/secondhand-uniform-sale/
CATEGORIES:Grade 1,Grade 2,Grade 3,Grade 4,Grade 5,Grade 6,Prep,Uniform
END:VEVENT
BEGIN:VEVENT
DTSTART;TZID=Australia/Melbourne:20240615T130000
DTEND;TZID=Australia/Melbourne:20240615T150000
DTSTAMP:20260423T152229
CREATED:20240606T011102Z
LAST-MODIFIED:20240606T012433Z
UID:10002035-1718456400-1718463600@eps.vic.edu.au
SUMMARY:Working Bee
DESCRIPTION:Saturday 15th June from 1pm to 3pm: Tasks will be more mulching\, clearing out the Frog Bog and chain-sawing up/removing some branches\, followed by a Sausage Sizzle!
URL:https://eps.vic.edu.au/event/working-bee-15-6/
CATEGORIES:Grade 1,Grade 2,Grade 3,Grade 4,Grade 5,Grade 6,Prep,Working Bee
END:VEVENT
BEGIN:VEVENT
DTSTART;TZID=Australia/Melbourne:20240620T090000
DTEND;TZID=Australia/Melbourne:20240620T150000
DTSTAMP:20260423T152229
CREATED:20240611T040943Z
LAST-MODIFIED:20240611T040943Z
UID:10002039-1718874000-1718895600@eps.vic.edu.au
SUMMARY:Grade 5 Market Day
DESCRIPTION:
URL:https://eps.vic.edu.au/event/grade-5-market-day-2024/
CATEGORIES:Event,Grade 1,Grade 2,Grade 3,Grade 4,Grade 5,Grade 6,Prep
END:VEVENT
BEGIN:VEVENT
DTSTART;VALUE=DATE:20240627
DTEND;VALUE=DATE:20240628
DTSTAMP:20260423T152229
CREATED:20240312T040629Z
LAST-MODIFIED:20240503T024626Z
UID:10000221-1719446400-1719532799@eps.vic.edu.au
SUMMARY:Parent Teacher Interviews
DESCRIPTION:No Students at school all day.  Interviews from 11.30am – 6.30pm.
URL:https://eps.vic.edu.au/event/parent-teacher-connect-meetings-2/
CATEGORIES:Curriculum Day,Grade 1,Grade 2,Grade 3,Grade 4,Grade 5,Grade 6,Prep
END:VEVENT
BEGIN:VEVENT
DTSTART;TZID=Australia/Melbourne:20240628T091000
DTEND;TZID=Australia/Melbourne:20240628T093000
DTSTAMP:20260423T152229
CREATED:20240429T024948Z
LAST-MODIFIED:20240429T024948Z
UID:10002025-1719565800-1719567000@eps.vic.edu.au
SUMMARY:Assembly
DESCRIPTION:
URL:https://eps.vic.edu.au/event/assembly-term-2/2024-06-28/
CATEGORIES:Grade 1,Grade 2,Grade 3,Grade 4,Grade 5,Grade 6,Prep
END:VEVENT
BEGIN:VEVENT
DTSTART;TZID=Australia/Melbourne:20240716T090000
DTEND;TZID=Australia/Melbourne:20240716T153000
DTSTAMP:20260423T152229
CREATED:20240612T043502Z
LAST-MODIFIED:20240612T043646Z
UID:10002041-1721120400-1721143800@eps.vic.edu.au
SUMMARY:Students return to school Term 3
DESCRIPTION:
URL:https://eps.vic.edu.au/event/students-return-to-school-3-2024/
CATEGORIES:Grade 1,Grade 2,Grade 3,Grade 4,Grade 5,Grade 6,Prep
END:VEVENT
BEGIN:VEVENT
DTSTART;TZID=Australia/Melbourne:20240719T091500
DTEND;TZID=Australia/Melbourne:20240719T094500
DTSTAMP:20260423T152229
CREATED:20240717T230900Z
LAST-MODIFIED:20240916T022632Z
UID:10002043-1721380500-1721382300@eps.vic.edu.au
SUMMARY:Assembly
DESCRIPTION:
URL:https://eps.vic.edu.au/event/assembly-term-3-2024/2024-07-19/
CATEGORIES:Grade 1,Grade 2,Grade 3,Grade 4,Grade 5,Grade 6,Prep
END:VEVENT
BEGIN:VEVENT
DTSTART;VALUE=DATE:20240726
DTEND;VALUE=DATE:20240727
DTSTAMP:20260423T152229
CREATED:20240717T231314Z
LAST-MODIFIED:20240717T231321Z
UID:10002048-1721952000-1722038399@eps.vic.edu.au
SUMMARY:Olympic Games Free Dress Day
DESCRIPTION:Dress in Green and Gold or your favourite sport.
URL:https://eps.vic.edu.au/event/olympic-free-dress/
CATEGORIES:Grade 1,Grade 2,Grade 3,Grade 4,Grade 5,Grade 6,Prep
END:VEVENT
BEGIN:VEVENT
DTSTART;TZID=Australia/Melbourne:20240802T091500
DTEND;TZID=Australia/Melbourne:20240802T094500
DTSTAMP:20260423T152229
CREATED:20240717T230900Z
LAST-MODIFIED:20240916T022632Z
UID:10002044-1722590100-1722591900@eps.vic.edu.au
SUMMARY:Assembly
DESCRIPTION:
URL:https://eps.vic.edu.au/event/assembly-term-3-2024/2024-08-02/
CATEGORIES:Grade 1,Grade 2,Grade 3,Grade 4,Grade 5,Grade 6,Prep
END:VEVENT
BEGIN:VEVENT
DTSTART;TZID=Australia/Melbourne:20240812T090000
DTEND;TZID=Australia/Melbourne:20240816T033000
DTSTAMP:20260423T152229
CREATED:20240717T231531Z
LAST-MODIFIED:20240717T231531Z
UID:10002049-1723453200-1723779000@eps.vic.edu.au
SUMMARY:Book Week Celebrations
DESCRIPTION:
URL:https://eps.vic.edu.au/event/book-week-2024/
CATEGORIES:Grade 1,Grade 2,Grade 3,Grade 4,Grade 5,Grade 6,Prep
END:VEVENT
BEGIN:VEVENT
DTSTART;TZID=Australia/Melbourne:20240816T091500
DTEND;TZID=Australia/Melbourne:20240816T094500
DTSTAMP:20260423T152229
CREATED:20240717T230900Z
LAST-MODIFIED:20240916T022632Z
UID:10002045-1723799700-1723801500@eps.vic.edu.au
SUMMARY:Assembly
DESCRIPTION:
URL:https://eps.vic.edu.au/event/assembly-term-3-2024/2024-08-16/
CATEGORIES:Grade 1,Grade 2,Grade 3,Grade 4,Grade 5,Grade 6,Prep
END:VEVENT
BEGIN:VEVENT
DTSTART;TZID=Australia/Melbourne:20240819T090000
DTEND;TZID=Australia/Melbourne:20240823T153000
DTSTAMP:20260423T152229
CREATED:20240717T231722Z
LAST-MODIFIED:20240717T231722Z
UID:10002050-1724058000-1724427000@eps.vic.edu.au
SUMMARY:Science Week
DESCRIPTION:
URL:https://eps.vic.edu.au/event/science-week-2024/
CATEGORIES:Grade 1,Grade 2,Grade 3,Grade 4,Grade 5,Grade 6,Prep
END:VEVENT
BEGIN:VEVENT
DTSTART;VALUE=DATE:20240823
DTEND;VALUE=DATE:20240824
DTSTAMP:20260423T152229
CREATED:20240822T024424Z
LAST-MODIFIED:20240822T024424Z
UID:10002066-1724371200-1724457599@eps.vic.edu.au
SUMMARY:Science Week Free Dress Day
DESCRIPTION:
URL:https://eps.vic.edu.au/event/science-week-dress-up-2024/
CATEGORIES:Grade 1,Grade 2,Grade 3,Grade 4,Grade 5,Grade 6,Prep
END:VEVENT
BEGIN:VEVENT
DTSTART;VALUE=DATE:20240826
DTEND;VALUE=DATE:20240831
DTSTAMP:20260423T152229
CREATED:20240717T232122Z
LAST-MODIFIED:20240717T232805Z
UID:10002052-1724630400-1725062399@eps.vic.edu.au
SUMMARY:Gr 6 Production rehearsal week
DESCRIPTION:
URL:https://eps.vic.edu.au/event/gr-6-production-rehearsal-week-2024/
CATEGORIES:Grade 6
END:VEVENT
BEGIN:VEVENT
DTSTART;TZID=Australia/Melbourne:20240830T091500
DTEND;TZID=Australia/Melbourne:20240830T094500
DTSTAMP:20260423T152229
CREATED:20240717T230900Z
LAST-MODIFIED:20240916T022632Z
UID:10002046-1725009300-1725011100@eps.vic.edu.au
SUMMARY:Assembly
DESCRIPTION:
URL:https://eps.vic.edu.au/event/assembly-term-3-2024/2024-08-30/
CATEGORIES:Grade 1,Grade 2,Grade 3,Grade 4,Grade 5,Grade 6,Prep
END:VEVENT
BEGIN:VEVENT
DTSTART;TZID=Australia/Melbourne:20240831T130000
DTEND;TZID=Australia/Melbourne:20240831T150000
DTSTAMP:20260423T152229
CREATED:20240822T024643Z
LAST-MODIFIED:20240822T024659Z
UID:10002067-1725109200-1725116400@eps.vic.edu.au
SUMMARY:Working Bee
DESCRIPTION:
URL:https://eps.vic.edu.au/event/working-bee-31-8-24/
CATEGORIES:Grade 1,Grade 2,Grade 3,Grade 4,Grade 5,Grade 6,Prep,Working Bee
END:VEVENT
BEGIN:VEVENT
DTSTART;TZID=Australia/Melbourne:20240904T130000
DTEND;TZID=Australia/Melbourne:20240904T143000
DTSTAMP:20260423T152229
CREATED:20240717T234935Z
LAST-MODIFIED:20240717T234935Z
UID:10002056-1725454800-1725460200@eps.vic.edu.au
SUMMARY:Grade 6 Production
DESCRIPTION:
URL:https://eps.vic.edu.au/event/grade-6-production-2024/2024-09-04/
CATEGORIES:Grade 6
END:VEVENT
BEGIN:VEVENT
DTSTART;TZID=Australia/Melbourne:20240905T180000
DTEND;TZID=Australia/Melbourne:20240905T193000
DTSTAMP:20260423T152229
CREATED:20240717T234935Z
LAST-MODIFIED:20240717T234935Z
UID:10002054-1725559200-1725564600@eps.vic.edu.au
SUMMARY:Grade 6 Production
DESCRIPTION:
URL:https://eps.vic.edu.au/event/grade-6-production-2024/2024-09-05/
CATEGORIES:Grade 6
END:VEVENT
BEGIN:VEVENT
DTSTART;TZID=Australia/Melbourne:20240906T180000
DTEND;TZID=Australia/Melbourne:20240906T193000
DTSTAMP:20260423T152229
CREATED:20240717T234935Z
LAST-MODIFIED:20240717T234935Z
UID:10002057-1725645600-1725651000@eps.vic.edu.au
SUMMARY:Grade 6 Production
DESCRIPTION:
URL:https://eps.vic.edu.au/event/grade-6-production-2024/2024-09-06/
CATEGORIES:Grade 6
END:VEVENT
END:VCALENDAR