BEGIN:VCALENDAR
VERSION:2.0
PRODID:-//Emerald Primary School - ECPv6.15.18//NONSGML v1.0//EN
CALSCALE:GREGORIAN
METHOD:PUBLISH
X-ORIGINAL-URL:https://eps.vic.edu.au
X-WR-CALDESC:Events for Emerald Primary School
REFRESH-INTERVAL;VALUE=DURATION:PT1H
X-Robots-Tag:noindex
X-PUBLISHED-TTL:PT1H
BEGIN:VTIMEZONE
TZID:Australia/Melbourne
BEGIN:STANDARD
TZOFFSETFROM:+1100
TZOFFSETTO:+1000
TZNAME:AEST
DTSTART:20240406T160000
END:STANDARD
BEGIN:DAYLIGHT
TZOFFSETFROM:+1000
TZOFFSETTO:+1100
TZNAME:AEDT
DTSTART:20241005T160000
END:DAYLIGHT
BEGIN:STANDARD
TZOFFSETFROM:+1100
TZOFFSETTO:+1000
TZNAME:AEST
DTSTART:20250405T160000
END:STANDARD
BEGIN:DAYLIGHT
TZOFFSETFROM:+1000
TZOFFSETTO:+1100
TZNAME:AEDT
DTSTART:20251004T160000
END:DAYLIGHT
BEGIN:STANDARD
TZOFFSETFROM:+1100
TZOFFSETTO:+1000
TZNAME:AEST
DTSTART:20260404T160000
END:STANDARD
BEGIN:DAYLIGHT
TZOFFSETFROM:+1000
TZOFFSETTO:+1100
TZNAME:AEDT
DTSTART:20261003T160000
END:DAYLIGHT
END:VTIMEZONE
BEGIN:VEVENT
DTSTART;VALUE=DATE:20250302
DTEND;VALUE=DATE:20250303
DTSTAMP:20260422T075427
CREATED:20250226T011833Z
LAST-MODIFIED:20250303T005707Z
UID:10002111-1740873600-1740959999@eps.vic.edu.au
SUMMARY:Clean Up Australia Day
DESCRIPTION:
URL:https://eps.vic.edu.au/event/clean-up-australia-day/
CATEGORIES:Grade 1,Grade 2,Grade 3,Grade 4,Grade 5,Grade 6
END:VEVENT
BEGIN:VEVENT
DTSTART;TZID=Australia/Melbourne:20250306T090000
DTEND;TZID=Australia/Melbourne:20250306T143000
DTSTAMP:20260422T075427
CREATED:20250226T012254Z
LAST-MODIFIED:20250303T005431Z
UID:10002112-1741251600-1741271400@eps.vic.edu.au
SUMMARY:House Sports Day
DESCRIPTION:
URL:https://eps.vic.edu.au/event/house-sports/
CATEGORIES:Event,Grade 3,Grade 4,Grade 5,Grade 6,Sports
END:VEVENT
BEGIN:VEVENT
DTSTART;TZID=Australia/Melbourne:20250307T091500
DTEND;TZID=Australia/Melbourne:20250307T100000
DTSTAMP:20260422T075427
CREATED:20250206T035344Z
LAST-MODIFIED:20250206T035344Z
UID:10002105-1741338900-1741341600@eps.vic.edu.au
SUMMARY:Leadership Assembly
DESCRIPTION:
URL:https://eps.vic.edu.au/event/leadership-assembly-2025/
CATEGORIES:Grade 1,Grade 2,Grade 3,Grade 4,Grade 5,Grade 6,Prep
END:VEVENT
BEGIN:VEVENT
DTSTART;VALUE=DATE:20250312
DTEND;VALUE=DATE:20250315
DTSTAMP:20260422T075427
CREATED:20250116T232917Z
LAST-MODIFIED:20260128T051500Z
UID:10002089-1741737600-1741996799@eps.vic.edu.au
SUMMARY:Grade 5 Camp Phillip Island
DESCRIPTION:
URL:https://eps.vic.edu.au/event/grade-5-camp-phillip-island-2025/
CATEGORIES:Grade 5
END:VEVENT
BEGIN:VEVENT
DTSTART;VALUE=DATE:20250312
DTEND;VALUE=DATE:20250325
DTSTAMP:20260422T075427
CREATED:20250120T084640Z
LAST-MODIFIED:20250120T085532Z
UID:10002091-1741737600-1742860799@eps.vic.edu.au
SUMMARY:Naplan Grades 3 & 5
DESCRIPTION:
URL:https://eps.vic.edu.au/event/naplan-gr-3-5-2025/
CATEGORIES:Grade 3,Grade 5
END:VEVENT
BEGIN:VEVENT
DTSTART;TZID=Australia/Melbourne:20250317T090000
DTEND;TZID=Australia/Melbourne:20250317T150000
DTSTAMP:20260422T075427
CREATED:20250128T224504Z
LAST-MODIFIED:20250314T010120Z
UID:10002100-1742202000-1742223600@eps.vic.edu.au
SUMMARY:Divisional Swimming (Selected Students)
DESCRIPTION:Dandenong Ranges Divisional Swimming championships\, Croydon Pool.
URL:https://eps.vic.edu.au/event/divisional-swimming-2025/
CATEGORIES:Grade 3,Grade 4,Grade 5,Grade 6
END:VEVENT
BEGIN:VEVENT
DTSTART;VALUE=DATE:20250321
DTEND;VALUE=DATE:20250322
DTSTAMP:20260422T075427
CREATED:20250314T005619Z
LAST-MODIFIED:20250314T005619Z
UID:10002115-1742515200-1742601599@eps.vic.edu.au
SUMMARY:Harmony Day - Free Dress Day!
DESCRIPTION:No Gold Coin Required
URL:https://eps.vic.edu.au/event/free-dress-day-3-3/
CATEGORIES:Grade 1,Grade 2,Grade 3,Grade 4,Grade 5,Grade 6,Prep
END:VEVENT
BEGIN:VEVENT
DTSTART;TZID=Australia/Melbourne:20250321T090000
DTEND;TZID=Australia/Melbourne:20250321T153000
DTSTAMP:20260422T075427
CREATED:20250128T225201Z
LAST-MODIFIED:20250314T010048Z
UID:10002101-1742547600-1742571000@eps.vic.edu.au
SUMMARY:Regional Swimming (Selected Students)
DESCRIPTION:Aquanation Ringwood
URL:https://eps.vic.edu.au/event/regional-swimming/
CATEGORIES:Grade 3,Grade 4,Grade 5,Grade 6,Sports
END:VEVENT
BEGIN:VEVENT
DTSTART;TZID=Australia/Melbourne:20250321T091500
DTEND;TZID=Australia/Melbourne:20250321T094500
DTSTAMP:20260422T075427
CREATED:20250206T035836Z
LAST-MODIFIED:20250206T035836Z
UID:10002106-1742548500-1742550300@eps.vic.edu.au
SUMMARY:Assembly
DESCRIPTION:
URL:https://eps.vic.edu.au/event/assembly-term-1-2-2025/
CATEGORIES:Grade 1,Grade 2,Grade 3,Grade 4,Grade 5,Grade 6,Prep
END:VEVENT
BEGIN:VEVENT
DTSTART;VALUE=DATE:20250326
DTEND;VALUE=DATE:20250327
DTSTAMP:20260422T075427
CREATED:20250314T010308Z
LAST-MODIFIED:20250314T010308Z
UID:10002116-1742947200-1743033599@eps.vic.edu.au
SUMMARY:World Maths Day
DESCRIPTION:
URL:https://eps.vic.edu.au/event/world-maths-day/
CATEGORIES:Grade 1,Grade 2,Grade 3,Grade 4,Grade 5,Grade 6,Prep
END:VEVENT
BEGIN:VEVENT
DTSTART;TZID=Australia/Melbourne:20250327T090000
DTEND;TZID=Australia/Melbourne:20250327T153000
DTSTAMP:20260422T075427
CREATED:20250128T224009Z
LAST-MODIFIED:20250314T005952Z
UID:10002098-1743066000-1743089400@eps.vic.edu.au
SUMMARY:EDEC Athletics Sports - Cockatoo (Selected Students)
DESCRIPTION:
URL:https://eps.vic.edu.au/event/edec-athletics-sports-27-3/
CATEGORIES:Grade 3,Grade 4,Grade 5,Grade 6,Sports
END:VEVENT
END:VCALENDAR