BEGIN:VCALENDAR
VERSION:2.0
PRODID:-//Emerald Primary School - ECPv6.15.18//NONSGML v1.0//EN
CALSCALE:GREGORIAN
METHOD:PUBLISH
X-WR-CALNAME:Emerald Primary School
X-ORIGINAL-URL:https://eps.vic.edu.au
X-WR-CALDESC:Events for Emerald Primary School
REFRESH-INTERVAL;VALUE=DURATION:PT1H
X-Robots-Tag:noindex
X-PUBLISHED-TTL:PT1H
BEGIN:VTIMEZONE
TZID:Australia/Melbourne
BEGIN:STANDARD
TZOFFSETFROM:+1100
TZOFFSETTO:+1000
TZNAME:AEST
DTSTART:20250405T160000
END:STANDARD
BEGIN:DAYLIGHT
TZOFFSETFROM:+1000
TZOFFSETTO:+1100
TZNAME:AEDT
DTSTART:20251004T160000
END:DAYLIGHT
BEGIN:STANDARD
TZOFFSETFROM:+1100
TZOFFSETTO:+1000
TZNAME:AEST
DTSTART:20260404T160000
END:STANDARD
BEGIN:DAYLIGHT
TZOFFSETFROM:+1000
TZOFFSETTO:+1100
TZNAME:AEDT
DTSTART:20261003T160000
END:DAYLIGHT
BEGIN:STANDARD
TZOFFSETFROM:+1100
TZOFFSETTO:+1000
TZNAME:AEST
DTSTART:20270403T160000
END:STANDARD
BEGIN:DAYLIGHT
TZOFFSETFROM:+1000
TZOFFSETTO:+1100
TZNAME:AEDT
DTSTART:20271002T160000
END:DAYLIGHT
BEGIN:STANDARD
TZOFFSETFROM:+1100
TZOFFSETTO:+1000
TZNAME:AEST
DTSTART:20280401T160000
END:STANDARD
BEGIN:DAYLIGHT
TZOFFSETFROM:+1000
TZOFFSETTO:+1100
TZNAME:AEDT
DTSTART:20280930T160000
END:DAYLIGHT
END:VTIMEZONE
BEGIN:VEVENT
DTSTART;TZID=Australia/Melbourne:20260515T091000
DTEND;TZID=Australia/Melbourne:20260515T093000
DTSTAMP:20260421T051028
CREATED:20260420T021903Z
LAST-MODIFIED:20260420T022108Z
UID:10002283-1778836200-1778837400@eps.vic.edu.au
SUMMARY:Assembly
DESCRIPTION:
URL:https://eps.vic.edu.au/event/assembly-term-2-2026/2026-05-15/
CATEGORIES:Grade 1,Grade 2,Grade 3,Grade 4,Grade 5,Grade 6,Prep
END:VEVENT
BEGIN:VEVENT
DTSTART;TZID=Australia/Melbourne:20260527T120000
DTEND;TZID=Australia/Melbourne:20260527T123000
DTSTAMP:20260421T051028
CREATED:20260420T023435Z
LAST-MODIFIED:20260420T023435Z
UID:10002291-1779883200-1779885000@eps.vic.edu.au
SUMMARY:National Simultaneous Storytime 2026
DESCRIPTION:
URL:https://eps.vic.edu.au/event/national-simultaneous-storytime-2026/
CATEGORIES:Event,Grade 1,Grade 2,Grade 3,Grade 4,Grade 5,Grade 6,Prep
END:VEVENT
BEGIN:VEVENT
DTSTART;TZID=Australia/Melbourne:20260529T091000
DTEND;TZID=Australia/Melbourne:20260529T093000
DTSTAMP:20260421T051028
CREATED:20260420T021903Z
LAST-MODIFIED:20260420T022108Z
UID:10002284-1780045800-1780047000@eps.vic.edu.au
SUMMARY:Assembly
DESCRIPTION:
URL:https://eps.vic.edu.au/event/assembly-term-2-2026/2026-05-29/
CATEGORIES:Grade 1,Grade 2,Grade 3,Grade 4,Grade 5,Grade 6,Prep
END:VEVENT
BEGIN:VEVENT
DTSTART;VALUE=DATE:20260603
DTEND;VALUE=DATE:20260604
DTSTAMP:20260421T051028
CREATED:20260420T023815Z
LAST-MODIFIED:20260420T023815Z
UID:10002293-1780444800-1780531199@eps.vic.edu.au
SUMMARY:Grade 5 Market Day
DESCRIPTION:
URL:https://eps.vic.edu.au/event/grade-5-market-day-2026/
CATEGORIES:Event,Grade 1,Grade 2,Grade 3,Grade 4,Grade 5,Grade 6,Prep
END:VEVENT
BEGIN:VEVENT
DTSTART;TZID=Australia/Melbourne:20260612T091000
DTEND;TZID=Australia/Melbourne:20260612T093000
DTSTAMP:20260421T051028
CREATED:20260420T021903Z
LAST-MODIFIED:20260420T022108Z
UID:10002285-1781255400-1781256600@eps.vic.edu.au
SUMMARY:Assembly
DESCRIPTION:
URL:https://eps.vic.edu.au/event/assembly-term-2-2026/2026-06-12/
CATEGORIES:Grade 1,Grade 2,Grade 3,Grade 4,Grade 5,Grade 6,Prep
END:VEVENT
BEGIN:VEVENT
DTSTART;VALUE=DATE:20260625
DTEND;VALUE=DATE:20260626
DTSTAMP:20260421T051028
CREATED:20260211T043105Z
LAST-MODIFIED:20260211T043105Z
UID:10002264-1782345600-1782431999@eps.vic.edu.au
SUMMARY:Parent Teacher Interviews
DESCRIPTION:For those families using the TheirCare childcare service\, they are preparing to have students on the 25th June 2026.
URL:https://eps.vic.edu.au/event/parent-teacher-connect-meetings-25-6-26/
CATEGORIES:Curriculum Day,Grade 1,Grade 2,Grade 3,Grade 4,Grade 5,Grade 6,Prep
END:VEVENT
BEGIN:VEVENT
DTSTART;TZID=Australia/Melbourne:20260626T091000
DTEND;TZID=Australia/Melbourne:20260626T093000
DTSTAMP:20260421T051028
CREATED:20260420T021903Z
LAST-MODIFIED:20260420T022108Z
UID:10002286-1782465000-1782466200@eps.vic.edu.au
SUMMARY:Assembly
DESCRIPTION:
URL:https://eps.vic.edu.au/event/assembly-term-2-2026/2026-06-26/
CATEGORIES:Grade 1,Grade 2,Grade 3,Grade 4,Grade 5,Grade 6,Prep
END:VEVENT
BEGIN:VEVENT
DTSTART;VALUE=DATE:20270310
DTEND;VALUE=DATE:20270323
DTSTAMP:20260421T051028
CREATED:20250120T085256Z
LAST-MODIFIED:20250120T085500Z
UID:10002093-1804636800-1805759999@eps.vic.edu.au
SUMMARY:Naplan Grades 3 & 5
DESCRIPTION:
URL:https://eps.vic.edu.au/event/naplan-gr-3-5-2027/
CATEGORIES:Grade 3,Grade 5
END:VEVENT
END:VCALENDAR