BEGIN:VCALENDAR
VERSION:2.0
PRODID:-//Emerald Primary School - ECPv6.15.18//NONSGML v1.0//EN
CALSCALE:GREGORIAN
METHOD:PUBLISH
X-WR-CALNAME:Emerald Primary School
X-ORIGINAL-URL:https://eps.vic.edu.au
X-WR-CALDESC:Events for Emerald Primary School
REFRESH-INTERVAL;VALUE=DURATION:PT1H
X-Robots-Tag:noindex
X-PUBLISHED-TTL:PT1H
BEGIN:VTIMEZONE
TZID:Australia/Melbourne
BEGIN:STANDARD
TZOFFSETFROM:+1100
TZOFFSETTO:+1000
TZNAME:AEST
DTSTART:20230401T160000
END:STANDARD
BEGIN:DAYLIGHT
TZOFFSETFROM:+1000
TZOFFSETTO:+1100
TZNAME:AEDT
DTSTART:20230930T160000
END:DAYLIGHT
BEGIN:STANDARD
TZOFFSETFROM:+1100
TZOFFSETTO:+1000
TZNAME:AEST
DTSTART:20240406T160000
END:STANDARD
BEGIN:DAYLIGHT
TZOFFSETFROM:+1000
TZOFFSETTO:+1100
TZNAME:AEDT
DTSTART:20241005T160000
END:DAYLIGHT
BEGIN:STANDARD
TZOFFSETFROM:+1100
TZOFFSETTO:+1000
TZNAME:AEST
DTSTART:20250405T160000
END:STANDARD
BEGIN:DAYLIGHT
TZOFFSETFROM:+1000
TZOFFSETTO:+1100
TZNAME:AEDT
DTSTART:20251004T160000
END:DAYLIGHT
END:VTIMEZONE
BEGIN:VEVENT
DTSTART;TZID=Australia/Melbourne:20240524T100000
DTEND;TZID=Australia/Melbourne:20240524T140000
DTSTAMP:20260421T083024
CREATED:20240313T231419Z
LAST-MODIFIED:20240313T231438Z
UID:10002004-1716544800-1716559200@eps.vic.edu.au
SUMMARY:Swimming Program  Prep - Grade 3
DESCRIPTION:
URL:https://eps.vic.edu.au/event/swimming-program-prep-grade-3/2024-05-24/
CATEGORIES:Grade 1,Grade 2,Grade 3,Prep
END:VEVENT
BEGIN:VEVENT
DTSTART;TZID=Australia/Melbourne:20240524T154500
DTEND;TZID=Australia/Melbourne:20240524T170000
DTSTAMP:20260421T083024
CREATED:20240515T050044Z
LAST-MODIFIED:20240522T055727Z
UID:10002034-1716565500-1716570000@eps.vic.edu.au
SUMMARY:Working Bee May 2024 RESCHEDULED
DESCRIPTION:We are looking forward to gathering after school this Friday to do some work around the school and spreading some mulch on the playgrounds.\nA great way to be involved in school life and meet some of the EPS crew!\nOne of the main tasks will be moving mulch to cover the back playgrounds – so please bring along gloves\, wheelbarrows and shovels/rakes :) \nAlso\, shout out for someone to please help remove some graffiti from the wooden fence on the oval – most likely a large sander would work. If there is anyone out there who could help with that\, it would be amazing!\nLook forward to seeing you then!
URL:https://eps.vic.edu.au/event/working-bee-17-5/
CATEGORIES:Grade 1,Grade 2,Grade 3,Grade 4,Grade 5,Grade 6,Prep,Working Bee
END:VEVENT
END:VCALENDAR