BEGIN:VCALENDAR
VERSION:2.0
PRODID:-//Emerald Primary School - ECPv6.15.18//NONSGML v1.0//EN
CALSCALE:GREGORIAN
METHOD:PUBLISH
X-WR-CALNAME:Emerald Primary School
X-ORIGINAL-URL:https://eps.vic.edu.au
X-WR-CALDESC:Events for Emerald Primary School
REFRESH-INTERVAL;VALUE=DURATION:PT1H
X-Robots-Tag:noindex
X-PUBLISHED-TTL:PT1H
BEGIN:VTIMEZONE
TZID:Australia/Melbourne
BEGIN:STANDARD
TZOFFSETFROM:+1100
TZOFFSETTO:+1000
TZNAME:AEST
DTSTART:20230401T160000
END:STANDARD
BEGIN:DAYLIGHT
TZOFFSETFROM:+1000
TZOFFSETTO:+1100
TZNAME:AEDT
DTSTART:20230930T160000
END:DAYLIGHT
BEGIN:STANDARD
TZOFFSETFROM:+1100
TZOFFSETTO:+1000
TZNAME:AEST
DTSTART:20240406T160000
END:STANDARD
BEGIN:DAYLIGHT
TZOFFSETFROM:+1000
TZOFFSETTO:+1100
TZNAME:AEDT
DTSTART:20241005T160000
END:DAYLIGHT
BEGIN:STANDARD
TZOFFSETFROM:+1100
TZOFFSETTO:+1000
TZNAME:AEST
DTSTART:20250405T160000
END:STANDARD
BEGIN:DAYLIGHT
TZOFFSETFROM:+1000
TZOFFSETTO:+1100
TZNAME:AEDT
DTSTART:20251004T160000
END:DAYLIGHT
END:VTIMEZONE
BEGIN:VEVENT
DTSTART;TZID=Australia/Melbourne:20240509T090000
DTEND;TZID=Australia/Melbourne:20240509T143000
DTSTAMP:20260421T083102
CREATED:20240508T043921Z
LAST-MODIFIED:20240508T043921Z
UID:10002033-1715245200-1715265000@eps.vic.edu.au
SUMMARY:Fairytale Fiasco Incursion 2024
DESCRIPTION:
URL:https://eps.vic.edu.au/event/fairytale-fiasco-incursion-2024/
CATEGORIES:Grade 1,Grade 2
END:VEVENT
BEGIN:VEVENT
DTSTART;TZID=Australia/Melbourne:20240509T143000
DTEND;TZID=Australia/Melbourne:20240509T152000
DTSTAMP:20260421T083102
CREATED:20240508T042603Z
LAST-MODIFIED:20240508T042603Z
UID:10002031-1715265000-1715268000@eps.vic.edu.au
SUMMARY:Junior School Cross Country
DESCRIPTION:Junior School Cross Country is around the corner! \nWhen: Thursday 9th May – 2:30-3:20pm\nWho: Prep to Grade 2 students\nWhere: School oval\nWhat: Students run in their grade levels over a set course.\nUniform: Students can come dressed in their house colours for the day\, or have their outfit ready under their uniform. \nParents are welcome to spectate and support
URL:https://eps.vic.edu.au/event/junior-school-cross-country/
CATEGORIES:Grade 1,Grade 2,Prep
END:VEVENT
END:VCALENDAR