BEGIN:VCALENDAR
VERSION:2.0
PRODID:-//Emerald Primary School - ECPv6.15.18//NONSGML v1.0//EN
CALSCALE:GREGORIAN
METHOD:PUBLISH
X-ORIGINAL-URL:https://eps.vic.edu.au
X-WR-CALDESC:Events for Emerald Primary School
REFRESH-INTERVAL;VALUE=DURATION:PT1H
X-Robots-Tag:noindex
X-PUBLISHED-TTL:PT1H
BEGIN:VTIMEZONE
TZID:Australia/Melbourne
BEGIN:STANDARD
TZOFFSETFROM:+1100
TZOFFSETTO:+1000
TZNAME:AEST
DTSTART:20230401T160000
END:STANDARD
BEGIN:DAYLIGHT
TZOFFSETFROM:+1000
TZOFFSETTO:+1100
TZNAME:AEDT
DTSTART:20230930T160000
END:DAYLIGHT
BEGIN:STANDARD
TZOFFSETFROM:+1100
TZOFFSETTO:+1000
TZNAME:AEST
DTSTART:20240406T160000
END:STANDARD
BEGIN:DAYLIGHT
TZOFFSETFROM:+1000
TZOFFSETTO:+1100
TZNAME:AEDT
DTSTART:20241005T160000
END:DAYLIGHT
BEGIN:STANDARD
TZOFFSETFROM:+1100
TZOFFSETTO:+1000
TZNAME:AEST
DTSTART:20250405T160000
END:STANDARD
BEGIN:DAYLIGHT
TZOFFSETFROM:+1000
TZOFFSETTO:+1100
TZNAME:AEDT
DTSTART:20251004T160000
END:DAYLIGHT
END:VTIMEZONE
BEGIN:VEVENT
DTSTART;TZID=Australia/Melbourne:20240612T090000
DTEND;TZID=Australia/Melbourne:20240612T153000
DTSTAMP:20260421T082958
CREATED:20240611T024546Z
LAST-MODIFIED:20250421T233715Z
UID:10002038-1718182800-1718206200@eps.vic.edu.au
SUMMARY:"Thank a First Responder Day" - Free Dress and Gold Coin Donation
DESCRIPTION:
URL:https://eps.vic.edu.au/event/thank-a-first-responder-day-free-dress-and-gold-coin-donation/
CATEGORIES:Grade 1,Grade 2,Grade 3,Grade 4,Grade 5,Grade 6,Prep
END:VEVENT
BEGIN:VEVENT
DTSTART;TZID=Australia/Melbourne:20240614T091000
DTEND;TZID=Australia/Melbourne:20240614T093000
DTSTAMP:20260421T082958
CREATED:20240429T024948Z
LAST-MODIFIED:20240429T024948Z
UID:10002024-1718356200-1718357400@eps.vic.edu.au
SUMMARY:Assembly
DESCRIPTION:
URL:https://eps.vic.edu.au/event/assembly-term-2/2024-06-14/
CATEGORIES:Grade 1,Grade 2,Grade 3,Grade 4,Grade 5,Grade 6,Prep
END:VEVENT
BEGIN:VEVENT
DTSTART;TZID=Australia/Melbourne:20240614T151500
DTEND;TZID=Australia/Melbourne:20240614T154500
DTSTAMP:20260421T082958
CREATED:20240610T233451Z
LAST-MODIFIED:20240610T233451Z
UID:10002037-1718378100-1718379900@eps.vic.edu.au
SUMMARY:Secondhand Uniform Sale
DESCRIPTION:Thank you for all your kind donations \nbut the 2nd hand uniform shop is full. \nPlease no more donations. 
URL:https://eps.vic.edu.au/event/secondhand-uniform-sale/
CATEGORIES:Grade 1,Grade 2,Grade 3,Grade 4,Grade 5,Grade 6,Prep,Uniform
END:VEVENT
BEGIN:VEVENT
DTSTART;TZID=Australia/Melbourne:20240615T130000
DTEND;TZID=Australia/Melbourne:20240615T150000
DTSTAMP:20260421T082958
CREATED:20240606T011102Z
LAST-MODIFIED:20240606T012433Z
UID:10002035-1718456400-1718463600@eps.vic.edu.au
SUMMARY:Working Bee
DESCRIPTION:Saturday 15th June from 1pm to 3pm: Tasks will be more mulching\, clearing out the Frog Bog and chain-sawing up/removing some branches\, followed by a Sausage Sizzle!
URL:https://eps.vic.edu.au/event/working-bee-15-6/
CATEGORIES:Grade 1,Grade 2,Grade 3,Grade 4,Grade 5,Grade 6,Prep,Working Bee
END:VEVENT
BEGIN:VEVENT
DTSTART;TZID=Australia/Melbourne:20240620T090000
DTEND;TZID=Australia/Melbourne:20240620T150000
DTSTAMP:20260421T082958
CREATED:20240611T040943Z
LAST-MODIFIED:20240611T040943Z
UID:10002039-1718874000-1718895600@eps.vic.edu.au
SUMMARY:Grade 5 Market Day
DESCRIPTION:
URL:https://eps.vic.edu.au/event/grade-5-market-day-2024/
CATEGORIES:Event,Grade 1,Grade 2,Grade 3,Grade 4,Grade 5,Grade 6,Prep
END:VEVENT
BEGIN:VEVENT
DTSTART;VALUE=DATE:20240627
DTEND;VALUE=DATE:20240628
DTSTAMP:20260421T082958
CREATED:20240312T040629Z
LAST-MODIFIED:20240503T024626Z
UID:10000221-1719446400-1719532799@eps.vic.edu.au
SUMMARY:Parent Teacher Interviews
DESCRIPTION:No Students at school all day.  Interviews from 11.30am – 6.30pm.
URL:https://eps.vic.edu.au/event/parent-teacher-connect-meetings-2/
CATEGORIES:Curriculum Day,Grade 1,Grade 2,Grade 3,Grade 4,Grade 5,Grade 6,Prep
END:VEVENT
BEGIN:VEVENT
DTSTART;TZID=Australia/Melbourne:20240628T091000
DTEND;TZID=Australia/Melbourne:20240628T093000
DTSTAMP:20260421T082958
CREATED:20240429T024948Z
LAST-MODIFIED:20240429T024948Z
UID:10002025-1719565800-1719567000@eps.vic.edu.au
SUMMARY:Assembly
DESCRIPTION:
URL:https://eps.vic.edu.au/event/assembly-term-2/2024-06-28/
CATEGORIES:Grade 1,Grade 2,Grade 3,Grade 4,Grade 5,Grade 6,Prep
END:VEVENT
END:VCALENDAR