BEGIN:VCALENDAR
VERSION:2.0
PRODID:-//Emerald Primary School - ECPv6.15.18//NONSGML v1.0//EN
CALSCALE:GREGORIAN
METHOD:PUBLISH
X-WR-CALNAME:Emerald Primary School
X-ORIGINAL-URL:https://eps.vic.edu.au
X-WR-CALDESC:Events for Emerald Primary School
REFRESH-INTERVAL;VALUE=DURATION:PT1H
X-Robots-Tag:noindex
X-PUBLISHED-TTL:PT1H
BEGIN:VTIMEZONE
TZID:Australia/Melbourne
BEGIN:STANDARD
TZOFFSETFROM:+1100
TZOFFSETTO:+1000
TZNAME:AEST
DTSTART:20220402T160000
END:STANDARD
BEGIN:DAYLIGHT
TZOFFSETFROM:+1000
TZOFFSETTO:+1100
TZNAME:AEDT
DTSTART:20221001T160000
END:DAYLIGHT
BEGIN:STANDARD
TZOFFSETFROM:+1100
TZOFFSETTO:+1000
TZNAME:AEST
DTSTART:20230401T160000
END:STANDARD
BEGIN:DAYLIGHT
TZOFFSETFROM:+1000
TZOFFSETTO:+1100
TZNAME:AEDT
DTSTART:20230930T160000
END:DAYLIGHT
BEGIN:STANDARD
TZOFFSETFROM:+1100
TZOFFSETTO:+1000
TZNAME:AEST
DTSTART:20240406T160000
END:STANDARD
BEGIN:DAYLIGHT
TZOFFSETFROM:+1000
TZOFFSETTO:+1100
TZNAME:AEDT
DTSTART:20241005T160000
END:DAYLIGHT
END:VTIMEZONE
BEGIN:VEVENT
DTSTART;TZID=Australia/Melbourne:20230505T154500
DTEND;TZID=Australia/Melbourne:20230505T170000
DTSTAMP:20260423T150839
CREATED:20230504T023621Z
LAST-MODIFIED:20230504T023621Z
UID:10000081-1683301500-1683306000@eps.vic.edu.au
SUMMARY:Working Bee
DESCRIPTION:Our next Working Bee will be held on this Friday 5th May after school\, weather permitting! We will be weeding the front garden and partaking in a delicious sausage  sizzle afterwards! Hope to see you then – starts after school at 3.45pm and we will be working on the front garden.
URL:https://eps.vic.edu.au/event/working-bee-2/
CATEGORIES:Grade 1,Grade 2,Grade 3,Grade 4,Grade 5,Grade 6,Prep,Working Bee
END:VEVENT
BEGIN:VEVENT
DTSTART;VALUE=DATE:20230508
DTEND;VALUE=DATE:20230513
DTSTAMP:20260423T150839
CREATED:20230504T040914Z
LAST-MODIFIED:20230504T040914Z
UID:10000087-1683504000-1683935999@eps.vic.edu.au
SUMMARY:Swimming Grades Prep - 3
DESCRIPTION:
URL:https://eps.vic.edu.au/event/swimming-grades-prep-3/
CATEGORIES:Grade 1,Grade 2,Grade 3,Prep
END:VEVENT
BEGIN:VEVENT
DTSTART;TZID=Australia/Melbourne:20230512T150000
DTEND;TZID=Australia/Melbourne:20230512T153000
DTSTAMP:20260423T150839
CREATED:20230508T222836Z
LAST-MODIFIED:20230508T222836Z
UID:10000092-1683903600-1683905400@eps.vic.edu.au
SUMMARY:Assembly
DESCRIPTION:
URL:https://eps.vic.edu.au/event/assembly-2/
CATEGORIES:Grade 1,Grade 2,Grade 3,Grade 4,Grade 5,Grade 6,Prep
END:VEVENT
BEGIN:VEVENT
DTSTART;TZID=Australia/Melbourne:20230517T180000
DTEND;TZID=Australia/Melbourne:20230517T190000
DTSTAMP:20260423T150839
CREATED:20230504T021804Z
LAST-MODIFIED:20230504T023054Z
UID:10000078-1684346400-1684350000@eps.vic.edu.au
SUMMARY:Junior School Parent Info Session - Literacy
DESCRIPTION:All parents of students in Prep\, Grade 1 and Grade 2 are invited to an information evening in the Library on Wednesday 17th May at 6pm to hear more information about the approach to Literacy teaching at EPS for the junior school students\, so that we can continue to build the connections between home and school to support learning.
URL:https://eps.vic.edu.au/event/junior-school-parent-info-session-literacy/
CATEGORIES:Grade 1,Grade 2,Prep
END:VEVENT
BEGIN:VEVENT
DTSTART;VALUE=DATE:20230519
DTEND;VALUE=DATE:20230520
DTSTAMP:20260423T150839
CREATED:20230510T224021Z
LAST-MODIFIED:20230510T224021Z
UID:10000096-1684454400-1684540799@eps.vic.edu.au
SUMMARY:Walk to School Day
DESCRIPTION:
URL:https://eps.vic.edu.au/event/walk-to-school-day/
CATEGORIES:Grade 1,Grade 2,Grade 3,Grade 4,Grade 5,Grade 6,Prep
END:VEVENT
END:VCALENDAR