BEGIN:VCALENDAR
VERSION:2.0
PRODID:-//Emerald Primary School - ECPv6.15.18//NONSGML v1.0//EN
CALSCALE:GREGORIAN
METHOD:PUBLISH
X-WR-CALNAME:Emerald Primary School
X-ORIGINAL-URL:https://eps.vic.edu.au
X-WR-CALDESC:Events for Emerald Primary School
REFRESH-INTERVAL;VALUE=DURATION:PT1H
X-Robots-Tag:noindex
X-PUBLISHED-TTL:PT1H
BEGIN:VTIMEZONE
TZID:Australia/Melbourne
BEGIN:STANDARD
TZOFFSETFROM:+1100
TZOFFSETTO:+1000
TZNAME:AEST
DTSTART:20210403T160000
END:STANDARD
BEGIN:DAYLIGHT
TZOFFSETFROM:+1000
TZOFFSETTO:+1100
TZNAME:AEDT
DTSTART:20211002T160000
END:DAYLIGHT
BEGIN:STANDARD
TZOFFSETFROM:+1100
TZOFFSETTO:+1000
TZNAME:AEST
DTSTART:20220402T160000
END:STANDARD
BEGIN:DAYLIGHT
TZOFFSETFROM:+1000
TZOFFSETTO:+1100
TZNAME:AEDT
DTSTART:20221001T160000
END:DAYLIGHT
BEGIN:STANDARD
TZOFFSETFROM:+1100
TZOFFSETTO:+1000
TZNAME:AEST
DTSTART:20230401T160000
END:STANDARD
BEGIN:DAYLIGHT
TZOFFSETFROM:+1000
TZOFFSETTO:+1100
TZNAME:AEDT
DTSTART:20230930T160000
END:DAYLIGHT
BEGIN:STANDARD
TZOFFSETFROM:+1100
TZOFFSETTO:+1000
TZNAME:AEST
DTSTART:20240406T160000
END:STANDARD
BEGIN:DAYLIGHT
TZOFFSETFROM:+1000
TZOFFSETTO:+1100
TZNAME:AEDT
DTSTART:20241005T160000
END:DAYLIGHT
BEGIN:STANDARD
TZOFFSETFROM:+1100
TZOFFSETTO:+1000
TZNAME:AEST
DTSTART:20250405T160000
END:STANDARD
BEGIN:DAYLIGHT
TZOFFSETFROM:+1000
TZOFFSETTO:+1100
TZNAME:AEDT
DTSTART:20251004T160000
END:DAYLIGHT
BEGIN:STANDARD
TZOFFSETFROM:+1100
TZOFFSETTO:+1000
TZNAME:AEST
DTSTART:20260404T160000
END:STANDARD
BEGIN:DAYLIGHT
TZOFFSETFROM:+1000
TZOFFSETTO:+1100
TZNAME:AEDT
DTSTART:20261003T160000
END:DAYLIGHT
END:VTIMEZONE
BEGIN:VEVENT
DTSTART;VALUE=DATE:20251115
DTEND;VALUE=DATE:20251116
DTSTAMP:20260421T064230
CREATED:20250403T224459Z
LAST-MODIFIED:20250403T224459Z
UID:10002160-1763164800-1763251199@eps.vic.edu.au
SUMMARY:Emerald School Fair 2025
DESCRIPTION:
URL:https://eps.vic.edu.au/event/emerald-school-fair-2025/
CATEGORIES:Event,Fundraising
END:VEVENT
BEGIN:VEVENT
DTSTART;TZID=Australia/Melbourne:20251112T090000
DTEND;TZID=Australia/Melbourne:20251112T120000
DTSTAMP:20260421T064230
CREATED:20251031T005240Z
LAST-MODIFIED:20251031T005240Z
UID:10002235-1762938000-1762948800@eps.vic.edu.au
SUMMARY:Prep Insect and Minibeast Incursion
DESCRIPTION:
URL:https://eps.vic.edu.au/event/prep-insect-and-minibeast-incursion/
CATEGORIES:Event,Prep
END:VEVENT
BEGIN:VEVENT
DTSTART;TZID=Australia/Melbourne:20251015T113000
DTEND;TZID=Australia/Melbourne:20251015T130000
DTSTAMP:20260421T064230
CREATED:20250403T224805Z
LAST-MODIFIED:20251006T003013Z
UID:10002162-1760527800-1760533200@eps.vic.edu.au
SUMMARY:Grandparent's & Special Friends' Day
DESCRIPTION:
URL:https://eps.vic.edu.au/event/grandparents-special-friends-day-2025/
CATEGORIES:Event
END:VEVENT
BEGIN:VEVENT
DTSTART;TZID=Australia/Melbourne:20250809T080000
DTEND;TZID=Australia/Melbourne:20250809T170000
DTSTAMP:20260421T064230
CREATED:20250806T023943Z
LAST-MODIFIED:20250806T023943Z
UID:10002195-1754726400-1754758800@eps.vic.edu.au
SUMMARY:Human Powered Vehicle Event (Selected Grade 6 Students)
DESCRIPTION:Sandown Raceway
URL:https://eps.vic.edu.au/event/human-powered-vehicle-event-2025-2/
CATEGORIES:Event,Grade 6,Sports
END:VEVENT
BEGIN:VEVENT
DTSTART;TZID=Australia/Melbourne:20250611T090000
DTEND;TZID=Australia/Melbourne:20250611T153000
DTSTAMP:20260421T064230
CREATED:20250402T024905Z
LAST-MODIFIED:20250402T024926Z
UID:10002148-1749632400-1749655800@eps.vic.edu.au
SUMMARY:Grade 5 Market Day
DESCRIPTION:
URL:https://eps.vic.edu.au/event/grade-5-market-day-2025/
CATEGORIES:Event,Grade 1,Grade 2,Grade 3,Grade 4,Grade 5,Grade 6,Prep
END:VEVENT
BEGIN:VEVENT
DTSTART;TZID=Australia/Melbourne:20250521T120000
DTEND;TZID=Australia/Melbourne:20250521T123000
DTSTAMP:20260421T064230
CREATED:20250428T001954Z
LAST-MODIFIED:20250428T002038Z
UID:10002170-1747828800-1747830600@eps.vic.edu.au
SUMMARY:National Simultaneous Storytime 2025
DESCRIPTION:
URL:https://eps.vic.edu.au/event/national-simultaneous-storytime-2025/
CATEGORIES:Event,Grade 1,Grade 2,Grade 3,Grade 4,Grade 5,Grade 6,Prep
END:VEVENT
BEGIN:VEVENT
DTSTART;VALUE=DATE:20250503
DTEND;VALUE=DATE:20250504
DTSTAMP:20260421T064230
CREATED:20250428T001047Z
LAST-MODIFIED:20250428T001111Z
UID:10002169-1746230400-1746316799@eps.vic.edu.au
SUMMARY:Human Powered Vehicle Event (Selected Grade 6 Students)
DESCRIPTION:Casey Fields
URL:https://eps.vic.edu.au/event/human-powered-vehicle-event-2/
CATEGORIES:Event,Grade 6,Sports
END:VEVENT
BEGIN:VEVENT
DTSTART;VALUE=DATE:20250430
DTEND;VALUE=DATE:20250501
DTSTAMP:20260421T064230
CREATED:20250423T053629Z
LAST-MODIFIED:20250423T053629Z
UID:10002165-1745971200-1746057599@eps.vic.edu.au
SUMMARY:"Wear Blue" day for Make A Wish Australia
DESCRIPTION:EPS is participating in “World Wish Month” during April to support Make-A-Wish Australia. We are planning to hold our “Wear Blue” day next Wednesday 30th April\, with a gold coin donation going towards this charity which helps to bring wishes to life for critically ill children. \nPlease see some further information attached. Thank you to Lisa Dangerfield and family for their support in running this day.
URL:https://eps.vic.edu.au/event/wear-blue-day-for-make-a-wish-australia/
CATEGORIES:Event
END:VEVENT
BEGIN:VEVENT
DTSTART;TZID=Australia/Melbourne:20250306T090000
DTEND;TZID=Australia/Melbourne:20250306T143000
DTSTAMP:20260421T064230
CREATED:20250226T012254Z
LAST-MODIFIED:20250303T005431Z
UID:10002112-1741251600-1741271400@eps.vic.edu.au
SUMMARY:House Sports Day
DESCRIPTION:
URL:https://eps.vic.edu.au/event/house-sports/
CATEGORIES:Event,Grade 3,Grade 4,Grade 5,Grade 6,Sports
END:VEVENT
BEGIN:VEVENT
DTSTART;TZID=Australia/Melbourne:20241128T113000
DTEND;TZID=Australia/Melbourne:20241128T130000
DTSTAMP:20260421T064230
CREATED:20241113T032250Z
LAST-MODIFIED:20241113T032250Z
UID:10002082-1732793400-1732798800@eps.vic.edu.au
SUMMARY:Grandparent's & Special Friends' Day
DESCRIPTION:
URL:https://eps.vic.edu.au/event/grandparents-special-friends-day-2024/
CATEGORIES:Event
END:VEVENT
BEGIN:VEVENT
DTSTART;TZID=Australia/Melbourne:20241026T113000
DTEND;TZID=Australia/Melbourne:20241026T160000
DTSTAMP:20260421T064230
CREATED:20240911T023533Z
LAST-MODIFIED:20250421T233522Z
UID:10002070-1729942200-1729958400@eps.vic.edu.au
SUMMARY:Emerald School Fair 2024
DESCRIPTION:
URL:https://eps.vic.edu.au/event/emerald-school-fair-2024/
CATEGORIES:Event
END:VEVENT
BEGIN:VEVENT
DTSTART;TZID=Australia/Melbourne:20240919T090000
DTEND;TZID=Australia/Melbourne:20240919T150000
DTSTAMP:20260421T064230
CREATED:20240911T023149Z
LAST-MODIFIED:20240911T023149Z
UID:10002069-1726736400-1726758000@eps.vic.edu.au
SUMMARY:Emerald Primary School Wheel-A-Thon
DESCRIPTION:
URL:https://eps.vic.edu.au/event/emerald-primary-school-wheel-a-thon/
CATEGORIES:Event
END:VEVENT
BEGIN:VEVENT
DTSTART;TZID=Australia/Melbourne:20240620T090000
DTEND;TZID=Australia/Melbourne:20240620T150000
DTSTAMP:20260421T064230
CREATED:20240611T040943Z
LAST-MODIFIED:20240611T040943Z
UID:10002039-1718874000-1718895600@eps.vic.edu.au
SUMMARY:Grade 5 Market Day
DESCRIPTION:
URL:https://eps.vic.edu.au/event/grade-5-market-day-2024/
CATEGORIES:Event,Grade 1,Grade 2,Grade 3,Grade 4,Grade 5,Grade 6,Prep
END:VEVENT
BEGIN:VEVENT
DTSTART;TZID=Australia/Melbourne:20240612T090000
DTEND;TZID=Australia/Melbourne:20240612T150000
DTSTAMP:20260421T064230
CREATED:20240610T230818Z
LAST-MODIFIED:20240610T230818Z
UID:10002036-1718182800-1718204400@eps.vic.edu.au
SUMMARY:Lightning Premierships 2024 - Grade 6
DESCRIPTION:
URL:https://eps.vic.edu.au/event/lightning-premiership-grade-6-3/
CATEGORIES:Event,Grade 6,Sports
END:VEVENT
BEGIN:VEVENT
DTSTART;TZID=Australia/Melbourne:20240504T160000
DTEND;TZID=Australia/Melbourne:20240504T200000
DTSTAMP:20260421T064230
CREATED:20240424T065052Z
LAST-MODIFIED:20240424T065052Z
UID:10002020-1714838400-1714852800@eps.vic.edu.au
SUMMARY:EPS Disco
DESCRIPTION:
URL:https://eps.vic.edu.au/event/eps-disco/
CATEGORIES:Event
END:VEVENT
BEGIN:VEVENT
DTSTART;TZID=Australia/Melbourne:20231111T113000
DTEND;TZID=Australia/Melbourne:20231111T160000
DTSTAMP:20260421T064230
CREATED:20230727T041601Z
LAST-MODIFIED:20250421T233452Z
UID:10000146-1699702200-1699718400@eps.vic.edu.au
SUMMARY:Emerald School Fair
DESCRIPTION:
URL:https://eps.vic.edu.au/event/emerald-school-fair-2/
LOCATION:Emerald Primary School\, 4-10 Heroes Ave\, Emerald\, VIC\, 3782\, Australia
CATEGORIES:Event
END:VEVENT
BEGIN:VEVENT
DTSTART;VALUE=DATE:20230607
DTEND;VALUE=DATE:20230608
DTSTAMP:20260421T064230
CREATED:20230531T014929Z
LAST-MODIFIED:20230531T015915Z
UID:10000106-1686096000-1686182399@eps.vic.edu.au
SUMMARY:Lightning Premiership - Grade 6
DESCRIPTION:
URL:https://eps.vic.edu.au/event/lightning-premiership-grade-6/
CATEGORIES:Event,Grade 6,Sports
END:VEVENT
BEGIN:VEVENT
DTSTART;TZID=Australia/Melbourne:20230606T090000
DTEND;TZID=Australia/Melbourne:20230606T153000
DTSTAMP:20260421T064230
CREATED:20230524T044845Z
LAST-MODIFIED:20230524T044845Z
UID:10000100-1686042000-1686065400@eps.vic.edu.au
SUMMARY:Divisional Cross Country
DESCRIPTION:
URL:https://eps.vic.edu.au/event/divisional-cross-country/
CATEGORIES:Event
END:VEVENT
BEGIN:VEVENT
DTSTART;TZID=Australia/Melbourne:20230512T141500
DTEND;TZID=Australia/Melbourne:20230512T150000
DTSTAMP:20260421T064230
CREATED:20230508T222612Z
LAST-MODIFIED:20230508T222653Z
UID:10000091-1683900900-1683903600@eps.vic.edu.au
SUMMARY:Mother’s Day celebration
DESCRIPTION:Afternoon Teas served at 2.15pm. Visitors are welcome to visit their child’s classroom from 2.30pm-3.00pm.
URL:https://eps.vic.edu.au/event/mothers-day-celebration/
CATEGORIES:Event
END:VEVENT
BEGIN:VEVENT
DTSTART;TZID=Australia/Melbourne:20230325T100000
DTEND;TZID=Australia/Melbourne:20230325T120000
DTSTAMP:20260421T064230
CREATED:20230317T040325Z
LAST-MODIFIED:20230317T040325Z
UID:10000064-1679738400-1679745600@eps.vic.edu.au
SUMMARY:Working Bee
DESCRIPTION:
URL:https://eps.vic.edu.au/event/working-bee/
CATEGORIES:Event
END:VEVENT
BEGIN:VEVENT
DTSTART;TZID=Australia/Melbourne:20230324T091000
DTEND;TZID=Australia/Melbourne:20230324T093000
DTSTAMP:20260421T064230
CREATED:20230317T035845Z
LAST-MODIFIED:20230317T040358Z
UID:10000063-1679649000-1679650200@eps.vic.edu.au
SUMMARY:Assembly
DESCRIPTION:
URL:https://eps.vic.edu.au/event/assembly/
CATEGORIES:Event
END:VEVENT
BEGIN:VEVENT
DTSTART;VALUE=DATE:20221220
DTEND;VALUE=DATE:20221221
DTSTAMP:20260421T064230
CREATED:20220913T004935Z
LAST-MODIFIED:20221212T012731Z
UID:10000014-1671494400-1671580799@eps.vic.edu.au
SUMMARY:Term 4 Concludes
DESCRIPTION:
URL:https://eps.vic.edu.au/event/term-4-concludes/
CATEGORIES:Event,Term Dates
ATTACH;FMTTYPE=image/png:https://eps.vic.edu.au/wp-content/uploads/2022/05/EPS_2Colour-2020EPS-1.png
END:VEVENT
BEGIN:VEVENT
DTSTART;TZID=Australia/Melbourne:20221216T174500
DTEND;TZID=Australia/Melbourne:20221216T200000
DTSTAMP:20260421T064230
CREATED:20221212T015450Z
LAST-MODIFIED:20221212T231307Z
UID:10000041-1671212700-1671220800@eps.vic.edu.au
SUMMARY:Carols By Candlelight
DESCRIPTION:For the first time since 2019\, Carols By Candlelight will be a live event this year. \nThe venue is at the Rotunda near the Lake at Emerald Lake.\nEmerald Primary School has been asked to perform in some way during the event.\nOur Ukulele Orchestra\, ukulele students and a carols choir will be representing our school.\nThere will be a whole school carol and the Year 2’s will be playing the ukulele for everyone.\nThe overall event will have a lot of local bands and singing groups.\nOur 20 minute contribution will start at 6pm.\nPerformers will be required on site and ready to go at 5.45pm\nThis is a voluntary performance (although the orchestra has been “volunteered”) by myself to be a part of things.\nIf your family is available and your children are interested\, we would love to see you on the night. You need not commit to the whole evening. After your children have performed\, well\, the night is your own.\nThere will be some lunchtime rehearsals both this week and next in preparation for our performance.\nHope to see you there.\nDan MacEoin.
URL:https://eps.vic.edu.au/event/carols-by-candlelight/
LOCATION:Emerald Lake Rotunda\, Emerald Lake Rd\, Emerald\, VIC\, 3782\, Australia
CATEGORIES:Event
END:VEVENT
BEGIN:VEVENT
DTSTART;VALUE=DATE:20221004
DTEND;VALUE=DATE:20221005
DTSTAMP:20260421T064230
CREATED:20220913T004904Z
LAST-MODIFIED:20220914T002921Z
UID:10000013-1664841600-1664927999@eps.vic.edu.au
SUMMARY:Term 4 Commences
DESCRIPTION:
URL:https://eps.vic.edu.au/event/term-4-commences/
CATEGORIES:Event,Term Dates
ATTACH;FMTTYPE=image/png:https://eps.vic.edu.au/wp-content/uploads/2022/05/EPS_2Colour-2020EPS-1.png
END:VEVENT
BEGIN:VEVENT
DTSTART;TZID=Australia/Melbourne:20221001T100000
DTEND;TZID=Australia/Melbourne:20221001T150000
DTSTAMP:20260421T064230
CREATED:20220601T042744Z
LAST-MODIFIED:20250421T233616Z
UID:10000011-1664618400-1664636400@eps.vic.edu.au
SUMMARY:Emerald School Fair
DESCRIPTION:
URL:https://eps.vic.edu.au/event/emerald-school-fair/
LOCATION:Emerald Primary School\, 4-10 Heroes Ave\, Emerald\, VIC\, 3782\, Australia
CATEGORIES:Event
ATTACH;FMTTYPE=image/jpeg:https://eps.vic.edu.au/wp-content/uploads/2022/06/67975366_2434379416627367_7919445980406087680_n.jpg
END:VEVENT
BEGIN:VEVENT
DTSTART;VALUE=DATE:20220916
DTEND;VALUE=DATE:20220917
DTSTAMP:20260421T064230
CREATED:20220913T004825Z
LAST-MODIFIED:20220913T005157Z
UID:10000012-1663286400-1663372799@eps.vic.edu.au
SUMMARY:Term 3 Concludes
DESCRIPTION:
URL:https://eps.vic.edu.au/event/term-3-concludes/
CATEGORIES:Event,Term Dates
ATTACH;FMTTYPE=image/png:https://eps.vic.edu.au/wp-content/uploads/2022/05/EPS_2Colour-2020EPS-1.png
END:VEVENT
BEGIN:VEVENT
DTSTART;VALUE=DATE:20220712
DTEND;VALUE=DATE:20220713
DTSTAMP:20260421T064230
CREATED:20220601T013757Z
LAST-MODIFIED:20220913T005206Z
UID:10000010-1657584000-1657670399@eps.vic.edu.au
SUMMARY:Term 3 Commences
DESCRIPTION:
URL:https://eps.vic.edu.au/event/term-3-commences/
CATEGORIES:Event,Term Dates
ATTACH;FMTTYPE=image/png:https://eps.vic.edu.au/wp-content/uploads/2022/05/EPS_2Colour-2020EPS-1.png
END:VEVENT
BEGIN:VEVENT
DTSTART;VALUE=DATE:20220624
DTEND;VALUE=DATE:20220625
DTSTAMP:20260421T064230
CREATED:20220531T153149Z
LAST-MODIFIED:20220601T050918Z
UID:10000007-1656028800-1656115199@eps.vic.edu.au
SUMMARY:Term 2 - Last Day Early Dismissal
DESCRIPTION:
URL:https://eps.vic.edu.au/event/term-2-last-day-early-dismissal/
CATEGORIES:Event
END:VEVENT
BEGIN:VEVENT
DTSTART;VALUE=DATE:20220623
DTEND;VALUE=DATE:20220624
DTSTAMP:20260421T064230
CREATED:20220531T153104Z
LAST-MODIFIED:20220601T050918Z
UID:10000006-1655942400-1656028799@eps.vic.edu.au
SUMMARY:Parent/Teacher Interviews - No students at school
DESCRIPTION:
URL:https://eps.vic.edu.au/event/parent-teacher-interviews-no-students-at-school/
CATEGORIES:Event
END:VEVENT
BEGIN:VEVENT
DTSTART;VALUE=DATE:20220622
DTEND;VALUE=DATE:20220623
DTSTAMP:20260421T064230
CREATED:20220601T013634Z
LAST-MODIFIED:20220601T050948Z
UID:10000008-1655856000-1655942399@eps.vic.edu.au
SUMMARY:EDEC Soccer
DESCRIPTION:
URL:https://eps.vic.edu.au/event/edec-soccer/
CATEGORIES:Event,Sports
END:VEVENT
END:VCALENDAR