BEGIN:VCALENDAR
VERSION:2.0
PRODID:-//Emerald Primary School - ECPv6.15.18//NONSGML v1.0//EN
CALSCALE:GREGORIAN
METHOD:PUBLISH
X-ORIGINAL-URL:https://eps.vic.edu.au
X-WR-CALDESC:Events for Emerald Primary School
REFRESH-INTERVAL;VALUE=DURATION:PT1H
X-Robots-Tag:noindex
X-PUBLISHED-TTL:PT1H
BEGIN:VTIMEZONE
TZID:Australia/Melbourne
BEGIN:STANDARD
TZOFFSETFROM:+1100
TZOFFSETTO:+1000
TZNAME:AEST
DTSTART:20240406T160000
END:STANDARD
BEGIN:DAYLIGHT
TZOFFSETFROM:+1000
TZOFFSETTO:+1100
TZNAME:AEDT
DTSTART:20241005T160000
END:DAYLIGHT
BEGIN:STANDARD
TZOFFSETFROM:+1100
TZOFFSETTO:+1000
TZNAME:AEST
DTSTART:20250405T160000
END:STANDARD
BEGIN:DAYLIGHT
TZOFFSETFROM:+1000
TZOFFSETTO:+1100
TZNAME:AEDT
DTSTART:20251004T160000
END:DAYLIGHT
BEGIN:STANDARD
TZOFFSETFROM:+1100
TZOFFSETTO:+1000
TZNAME:AEST
DTSTART:20260404T160000
END:STANDARD
BEGIN:DAYLIGHT
TZOFFSETFROM:+1000
TZOFFSETTO:+1100
TZNAME:AEDT
DTSTART:20261003T160000
END:DAYLIGHT
END:VTIMEZONE
BEGIN:VEVENT
DTSTART;VALUE=DATE:20250430
DTEND;VALUE=DATE:20250501
DTSTAMP:20260422T005301
CREATED:20250423T053629Z
LAST-MODIFIED:20250423T053629Z
UID:10002165-1745971200-1746057599@eps.vic.edu.au
SUMMARY:"Wear Blue" day for Make A Wish Australia
DESCRIPTION:EPS is participating in “World Wish Month” during April to support Make-A-Wish Australia. We are planning to hold our “Wear Blue” day next Wednesday 30th April\, with a gold coin donation going towards this charity which helps to bring wishes to life for critically ill children. \nPlease see some further information attached. Thank you to Lisa Dangerfield and family for their support in running this day.
URL:https://eps.vic.edu.au/event/wear-blue-day-for-make-a-wish-australia/
CATEGORIES:Event
END:VEVENT
END:VCALENDAR