BEGIN:VCALENDAR
VERSION:2.0
PRODID:-//Emerald Primary School - ECPv6.15.18//NONSGML v1.0//EN
CALSCALE:GREGORIAN
METHOD:PUBLISH
X-ORIGINAL-URL:https://eps.vic.edu.au
X-WR-CALDESC:Events for Emerald Primary School
REFRESH-INTERVAL;VALUE=DURATION:PT1H
X-Robots-Tag:noindex
X-PUBLISHED-TTL:PT1H
BEGIN:VTIMEZONE
TZID:Australia/Melbourne
BEGIN:STANDARD
TZOFFSETFROM:+1100
TZOFFSETTO:+1000
TZNAME:AEST
DTSTART:20240406T160000
END:STANDARD
BEGIN:DAYLIGHT
TZOFFSETFROM:+1000
TZOFFSETTO:+1100
TZNAME:AEDT
DTSTART:20241005T160000
END:DAYLIGHT
BEGIN:STANDARD
TZOFFSETFROM:+1100
TZOFFSETTO:+1000
TZNAME:AEST
DTSTART:20250405T160000
END:STANDARD
BEGIN:DAYLIGHT
TZOFFSETFROM:+1000
TZOFFSETTO:+1100
TZNAME:AEDT
DTSTART:20251004T160000
END:DAYLIGHT
BEGIN:STANDARD
TZOFFSETFROM:+1100
TZOFFSETTO:+1000
TZNAME:AEST
DTSTART:20260404T160000
END:STANDARD
BEGIN:DAYLIGHT
TZOFFSETFROM:+1000
TZOFFSETTO:+1100
TZNAME:AEDT
DTSTART:20261003T160000
END:DAYLIGHT
END:VTIMEZONE
BEGIN:VEVENT
DTSTART;TZID=Australia/Melbourne:20251013T000000
DTEND;TZID=Australia/Melbourne:20251017T000000
DTSTAMP:20260422T020610
CREATED:20250403T224628Z
LAST-MODIFIED:20250403T224628Z
UID:10002161-1760313600-1760659200@eps.vic.edu.au
SUMMARY:Book Fair Week
DESCRIPTION:
URL:https://eps.vic.edu.au/event/book-fair-week-2025/
CATEGORIES:Grade 1,Grade 2,Grade 3,Grade 4,Grade 5,Grade 6,Prep
END:VEVENT
BEGIN:VEVENT
DTSTART;TZID=Australia/Melbourne:20251016T090000
DTEND;TZID=Australia/Melbourne:20251016T150000
DTSTAMP:20260422T020610
CREATED:20251008T035618Z
LAST-MODIFIED:20251008T035618Z
UID:10002214-1760605200-1760626800@eps.vic.edu.au
SUMMARY:Divisional Basketball (Selected Students)
DESCRIPTION:
URL:https://eps.vic.edu.au/event/divisional-basketball-selected-students/
END:VEVENT
BEGIN:VEVENT
DTSTART;TZID=Australia/Melbourne:20251016T111500
DTEND;TZID=Australia/Melbourne:20251016T120000
DTSTAMP:20260422T020610
CREATED:20250911T011534Z
LAST-MODIFIED:20250911T012518Z
UID:10002207-1760613300-1760616000@eps.vic.edu.au
SUMMARY:Prep 2026 Transition Program - Thursday Session One
DESCRIPTION:Session One: Perceptual Motor Program (PMP). Parent information session held in the library.
URL:https://eps.vic.edu.au/event/prep-2026-transition-1-2/
CATEGORIES:Prep Transition
END:VEVENT
END:VCALENDAR