BEGIN:VCALENDAR
VERSION:2.0
PRODID:-//Emerald Primary School - ECPv6.15.18//NONSGML v1.0//EN
CALSCALE:GREGORIAN
METHOD:PUBLISH
X-ORIGINAL-URL:https://eps.vic.edu.au
X-WR-CALDESC:Events for Emerald Primary School
REFRESH-INTERVAL;VALUE=DURATION:PT1H
X-Robots-Tag:noindex
X-PUBLISHED-TTL:PT1H
BEGIN:VTIMEZONE
TZID:Australia/Melbourne
BEGIN:STANDARD
TZOFFSETFROM:+1100
TZOFFSETTO:+1000
TZNAME:AEST
DTSTART:20230401T160000
END:STANDARD
BEGIN:DAYLIGHT
TZOFFSETFROM:+1000
TZOFFSETTO:+1100
TZNAME:AEDT
DTSTART:20230930T160000
END:DAYLIGHT
BEGIN:STANDARD
TZOFFSETFROM:+1100
TZOFFSETTO:+1000
TZNAME:AEST
DTSTART:20240406T160000
END:STANDARD
BEGIN:DAYLIGHT
TZOFFSETFROM:+1000
TZOFFSETTO:+1100
TZNAME:AEDT
DTSTART:20241005T160000
END:DAYLIGHT
BEGIN:STANDARD
TZOFFSETFROM:+1100
TZOFFSETTO:+1000
TZNAME:AEST
DTSTART:20250405T160000
END:STANDARD
BEGIN:DAYLIGHT
TZOFFSETFROM:+1000
TZOFFSETTO:+1100
TZNAME:AEDT
DTSTART:20251004T160000
END:DAYLIGHT
END:VTIMEZONE
BEGIN:VEVENT
DTSTART;TZID=Australia/Melbourne:20240516T100000
DTEND;TZID=Australia/Melbourne:20240516T140000
DTSTAMP:20260425T014212
CREATED:20240313T230545Z
LAST-MODIFIED:20240313T231525Z
UID:10001997-1715853600-1715868000@eps.vic.edu.au
SUMMARY:Swimming Program Prep - Grade 3
DESCRIPTION:
URL:https://eps.vic.edu.au/event/swimming-prep-grade-3/2024-05-16/
CATEGORIES:Grade 1,Grade 2,Grade 3,Prep
END:VEVENT
BEGIN:VEVENT
DTSTART;TZID=Australia/Melbourne:20240516T191500
DTEND;TZID=Australia/Melbourne:20240516T201500
DTSTAMP:20260425T014212
CREATED:20240503T014213Z
LAST-MODIFIED:20240503T014213Z
UID:10002027-1715886900-1715890500@eps.vic.edu.au
SUMMARY:School Council Meeting
DESCRIPTION:
URL:https://eps.vic.edu.au/event/school-council-meeting-3/
END:VEVENT
BEGIN:VEVENT
DTSTART;TZID=Australia/Melbourne:20240516T191500
DTEND;TZID=Australia/Melbourne:20240516T201500
DTSTAMP:20260425T014212
CREATED:20240619T043120Z
LAST-MODIFIED:20240619T043121Z
UID:10002028-1715886900-1715890500@eps.vic.edu.au
SUMMARY:School Council Meeting
DESCRIPTION:
URL:https://eps.vic.edu.au/event/school-council-meeting-3-2/
END:VEVENT
END:VCALENDAR